BEGIN:VCALENDAR
VERSION:2.0
PRODID:-//MON PARURE - ECPv6.3.5//NONSGML v1.0//EN
CALSCALE:GREGORIAN
METHOD:PUBLISH
X-ORIGINAL-URL:https://monparure.com
X-WR-CALDESC:MON PARURE のイベント
REFRESH-INTERVAL;VALUE=DURATION:PT1H
X-Robots-Tag:noindex
X-PUBLISHED-TTL:PT1H
BEGIN:VTIMEZONE
TZID:Asia/Tokyo
BEGIN:STANDARD
TZOFFSETFROM:+0900
TZOFFSETTO:+0900
TZNAME:JST
DTSTART:20180101T000000
END:STANDARD
END:VTIMEZONE
BEGIN:VEVENT
DTSTART;TZID=Asia/Tokyo:20180824T103000
DTEND;TZID=Asia/Tokyo:20180824T150000
DTSTAMP:20260423T190849
CREATED:20180801T051135Z
LAST-MODIFIED:20180823T091731Z
UID:1166-1535106600-1535122800@monparure.com
SUMMARY:＜素材博覧会　ワークショップ＞アルファベットワークショップ
DESCRIPTION:  \n２０１８年素材博覧会～秋～でのワークショップのお知らせです。 \nアルファベットをワイヤーで作りネックレスに仕立て上げます。約３０分ほどで仕上がりますので \nＷｉｒｅを身近に☆一緒に素敵なプチネックレスを作りましょう。 \n  \n\n\n\n\n　日時\n　８月２４日金曜日\n\n\n　レッスンフィー（材料費込\n　1\,000円（税込）\n\n\n　持ち物\n\n　なし \n\n\n\n　お申込み\n\n会場で直接。泰豊トレーディングブースにて直接お申し込みください。 \n先着順各回６～８名 \n10:30~ 12:30~ 14:30~ \n\n\n\n\n・・・・・・・・・・・・・・・・・・・・・・・・・・・・・・・・・・・・・・・・・・・・・・ \n  \n初めてさん・作ったことがあるけどコツを知りたい。可愛いもの大好き！ \n同じ仲間たちが募って手作りをする時間はとっても楽しい時間です。一緒に作って楽しみましょう \n  \n  \n  \n 
URL:https://monparure.com/lesson/1166
LOCATION:横浜大桟橋　素材博覧会\, 海岸通1丁目1番4号\, 横浜市中区\, 神奈川県\, 2310002\, Japan
END:VEVENT
END:VCALENDAR