BEGIN:VCALENDAR
VERSION:2.0
PRODID:-//MON PARURE - ECPv6.3.5//NONSGML v1.0//EN
CALSCALE:GREGORIAN
METHOD:PUBLISH
X-WR-CALNAME:MON PARURE
X-ORIGINAL-URL:https://monparure.com
X-WR-CALDESC:MON PARURE のイベント
REFRESH-INTERVAL;VALUE=DURATION:PT1H
X-Robots-Tag:noindex
X-PUBLISHED-TTL:PT1H
BEGIN:VTIMEZONE
TZID:Asia/Tokyo
BEGIN:STANDARD
TZOFFSETFROM:+0900
TZOFFSETTO:+0900
TZNAME:JST
DTSTART:20180101T000000
END:STANDARD
END:VTIMEZONE
BEGIN:VEVENT
DTSTART;TZID=Asia/Tokyo:20180327T090000
DTEND;TZID=Asia/Tokyo:20180327T180000
DTSTAMP:20260423T071409
CREATED:20180302T072218Z
LAST-MODIFIED:20180302T072218Z
UID:916-1522141200-1522173600@monparure.com
SUMMARY:シモジマ3月在店のお知らせ
DESCRIPTION:シモジマ1月　在店日時間のお知らせです。 \n9：00～16：00 \n＊この日は終日お店にいます。ご来店でプチレッスンをご希望の方はお気軽にお声かけ下さい \n（（一時間　1\,250円+税を頂戴します）） \n  \n・・・・・・・・・・・・・・・・・・・・・・・・・・・・・・・・・・・ \nモンパルレのレッスンはこんなレッスンです。 \nMONPARUREのレッスンでは入会制度とっておりません。「したいことをする」「行けるときに行く」「作りに行ってみる」をテーマにレッスンを行います。\n \n「キットをイベントや展示会で買ったけどずっとお蔵入りになっている」\n「買ったけど作り方がわからなくてそのままになっている」\n「ビーズをやってみたいけど敷居が高いのでは？」\n「お教室はずっと継続で通わなくてはならないの？」\n \nそんなすべてを解消するのがMONPARUREのレッスンです。\n \n ここに集う皆さんはおなじ「モノづくり」が好きなお仲間たち。1人で初めて「えいっ！」とレッスンに入っても\n直ぐにお仲間になっていけます。モノづくりって「仲間」も「楽しいおしゃべりの時間」も作ってくれます。\n \nたった二時間の時間だけど、きっと・・・充実していただけることをお約束します。\n \n \nまた決まったレッスン日以外の日でもお店は何時も開いています。お店がOPENしている時間はちょっと遠足がてらビーズ好きなお仲間たちとおやつやランチをもってモンパルレのお店へお越しください。\n \n6～8名かけのテーブルがありますのでそこでお仲間たちと一緒に、お店にあるモンパルレのキットや材料から、また手持ちの材料などを持ち込み色々な材料と組み合わせたモノづくりの時間をここでお楽しみいただけます。\nビーズマットや工具などは貸し出しいたします（無料）し、店内での飲食もご自由に＾＾\n（あたたかいお飲み物やおやつなどはご用意しています）\n またお店に下島がいるときは1H1\,250円（税別）でレッスンも可能ですので持ち込み材料などでオリジナルアクセサリー作りのご相談も承ります＾＾\n \nさいたまのちょっと不便な場所にモンパルレのお店はありますが、遠足がてら是非お店へお越しください。\n \nビーズ好きな方々はきっとお店に来ていただけたらモンパルレってこんなお店なんだ～と喜んでいただけるかな？と思います\n \n  \n■モンパルレのお店では「作りたいものを作る」「行きたいときに行ける」のレッスンを随時開催しています■ \n  \nモンパルレでは作りたいものを作るお手伝いと、行きたいときに行ける場所の提供、そして月に２回定期的に開催しているレッスン・また「シモジマ在店日」には１時間1\,250円でレッスンもできる！この４点のご用意をしています。 \n１・作りたいものを作る・・・「初めてはどの作品から作ればよいですか？」というご質問を多く受けます。ですが自分で作って身に着けるなら「お洋服に合わせたい一生大切にしたいアクセサリーを作って身に着けたい」ものです。どんな方でもレッスンで完成までお手伝いしますので是非「作りたいもの」を見つけにいらしてください \n  \n２・行きたいときに行ける場所の提供・・・モンパルレはお店になっています。店内はウエブでご覧いただけているキットやサンプル・材料などが置かれています。遠方からお越しの方は朝から夕方までゆっくりとお過ごしいただけるようにテーブルもまた工具の貸し出し（無料）で行っています。遠方からのお越しの方は群馬や栃木・福島や九州方面からもお越しくださいますが皆さん長時間滞在で楽しみながらお過ごしいただいていますので、お菓子やお飲み物・お弁当持参で遠足に行く感覚で店内で手作り時間をお過ごしいただければと思います。 \n  \n３・月２回の定期レッスン・・・だいたいが第三の日曜日・月曜日で開催される定期レッスンです。今月の課題デザインのアクセサリーまたは、MON PARUREで購入したお手持ちのキットや、レッスン当日にキットサンプルを見てお選びいただけます。「作り始めたけど、分からないところがある」「どうしても綺麗にできない」などなど・・・・ご希望に合わせてレッスンを受けることができます。 \nお申し込みの際には「今月のレッスン課題」または「KITの〇〇を作りたい」等\n ご希望をお伝えください。予めご連絡をお願いいたします。定期レッスンでは作りたいものを作る・仕上げるのレッスンをされる方と、その月のテーマ（課題をデザインした）レッスンを選べます。同じ「手作りの仲間」を一緒に過ごす時間は和やかで情報交換の場でもあります。お仲間と一緒にレッスンを共に楽しみましょう。 \n  \n4・シモジマ在店日について・・・シモジマ在店日を「レッスン」のスケジュールページに掲載しています。この日にお店へご来店いただければ、おしゃべりも楽しめますしご希望であれば1時間1\,250円（+税）のレッスンフィーでお教えするのも可能です。ただし急な打ち合わせで在店していない日もありますので在店日にご来店でレッスンご希望の方は予めご連絡して頂ければ調整ができます。 \n\n \n \n■レッスンで作りたいアクセサリーについて■\n 今月の課題デザインのアクセサリーまたは、MON PARUREで購入したお手持ちのキットや、レッスン当日にキットサンプルを見てお選びいただけます。「作り始めたけど、分からないところがある」「どうしても綺麗にできない」などご要望に合わせたレッスンが可能です \nお申し込みの際には「今月のレッスン課題」または「KITの〇〇を作りたい」等\n ご希望をお伝えくださいませ \n＊＊＊当レッスンでは入会制をとっておりません。参加できる日時にご予約して、お気軽にご参加ください。\n ＊＊＊初めての方も、中級～上級者の方もご希望に合わせてご受講いただけます。 \n 
URL:https://monparure.com/lesson/916
LOCATION:シモジマ在店～東浦和本店～\, 東浦和4-1-16\, さいたま市緑区\, 埼玉県\, 3360926
ORGANIZER;CN="MON PARURE":MAILTO:lesson@monparure.com
END:VEVENT
END:VCALENDAR