BEGIN:VCALENDAR
VERSION:2.0
PRODID:-//MON PARURE - ECPv6.3.5//NONSGML v1.0//EN
CALSCALE:GREGORIAN
METHOD:PUBLISH
X-ORIGINAL-URL:https://monparure.com
X-WR-CALDESC:MON PARURE のイベント
REFRESH-INTERVAL;VALUE=DURATION:PT1H
X-Robots-Tag:noindex
X-PUBLISHED-TTL:PT1H
BEGIN:VTIMEZONE
TZID:Asia/Tokyo
BEGIN:STANDARD
TZOFFSETFROM:+0900
TZOFFSETTO:+0900
TZNAME:JST
DTSTART:20180101T000000
END:STANDARD
END:VTIMEZONE
BEGIN:VEVENT
DTSTART;TZID=Asia/Tokyo:20180118T110000
DTEND;TZID=Asia/Tokyo:20180118T153000
DTSTAMP:20260423T023248
CREATED:20171223T081324Z
LAST-MODIFIED:20171223T083130Z
UID:816-1516273200-1516289400@monparure.com
SUMMARY:＜展示会レッスン＞「はじめてのオートクチュール刺繍」ワークショップ
DESCRIPTION:  \nGrisさん主催の「はじめてのオートクチュール刺繍」～日本橋三越～の \nイベントでMONPARUREも協賛で出展いたします。 \nその中で今回は1月18日木曜日・1月20日土曜日の二日間の午前午後でワークショップを開催することに＾＾ \n内容は1月17日発売の新刊本「オトナのビーズ刺繍ブローチmore」から２つのアクセサリーブローチをこの機会に \nレクチャーいたします。 \nはじめてさんこそ、ご参加いただきたい！一緒に手作りの仲間になりましょう＾＾ \n  \n  \n日時：1月18日　木曜日　AM11：00～12：30　Feather(羽根) \n　　　　　　　　　　　　PM14：00～15：30　Parasol(日傘)　 \n場所：日本橋三越　 \n価格：4\,700円（+tax) \n申し込み：TEL：03-3274-8843　日本橋三越本店 受付時間 10:30-19:30\n　　　　　MAIL：info@gris-info.com  株式会社グリ \n ☆以下をお知らせください \n①ワークショップ / 体験会 名　　　　②ご希望の日程　　　　③ご希望のお時間　　　　④お名前　　　　⑤お電話番号 \nメールでのご予約は、こちらから返信を差し上げた時点でご予約完了となります。24時間経ってもメールの返信がない場合、弊社で確認できていない場合がございますので、お手数ですがお電話にてお問い合わせいただけますと幸いです。 \n・・・・・・・・・・・・・・・・・・・・・・・・・・・・・・・・・・・・・・・・・・・・・・ \n初めてさん・作ったことがあるけどコツを知りたい。可愛いもの大好き！ \n同じ仲間たちが募って手作りをする時間はとっても楽しい時間です。一緒に作って楽しみましょう \n  \n  \n  \n  \n 
URL:https://monparure.com/lesson/816
LOCATION:日本橋三越\, 日本橋室町１丁目４−１\, 中央区\, 東京都\, 1030002\, Japan
ORGANIZER;CN="Gris":MAILTO:tezuka@gris-info.com
END:VEVENT
END:VCALENDAR