BEGIN:VCALENDAR
VERSION:2.0
PRODID:-//MON PARURE - ECPv6.3.5//NONSGML v1.0//EN
CALSCALE:GREGORIAN
METHOD:PUBLISH
X-WR-CALNAME:MON PARURE
X-ORIGINAL-URL:https://monparure.com
X-WR-CALDESC:MON PARURE のイベント
REFRESH-INTERVAL;VALUE=DURATION:PT1H
X-Robots-Tag:noindex
X-PUBLISHED-TTL:PT1H
BEGIN:VTIMEZONE
TZID:Asia/Tokyo
BEGIN:STANDARD
TZOFFSETFROM:+0900
TZOFFSETTO:+0900
TZNAME:JST
DTSTART:20170101T000000
END:STANDARD
END:VTIMEZONE
BEGIN:VEVENT
DTSTART;TZID=Asia/Tokyo:20171217T100000
DTEND;TZID=Asia/Tokyo:20171217T153000
DTSTAMP:20260423T003706
CREATED:20171121T013358Z
LAST-MODIFIED:20171121T013358Z
UID:684-1513504800-1513524600@monparure.com
SUMMARY:12月レッスンのお知らせ
DESCRIPTION:12月レッスン課題のお知らせです。 \nシモジマが9月にイタリアで拾ってきた松ぼっくりとビーズをコラボさせて \nオーナメントを作ります。サンプル画像は後日UPします。 \nイタリアの松ぼっくりはとても大きくて形もとてもキレイ。 \n有名なビオワインのワイナリーで拾ってきました。 \n  \n・・・・・・・・・・・・・・・・・・・・・・・・・・・・・・・・・・・ \n□イタリアシシリー産　松ぼっくりを使ったオーナメントを作りましょう□ \n午前の部　10：00～12：00（12：30から1時間ほどお時間を頂戴します～午前・午後レッスン合同ランチ会開催）\n 午後の部　13：30～15：30（12：30にお越しください～午前・午後レッスン合同ランチ会開催） \n参加費用（レッスンフィー　2\,700円（税込み）ランチ会は無料です） \n材料費　4\,000円（税別） \n  \n・・・・・・・・・・・・・・・・・・・・・・・・・・・・・・・・・・・ \nモンパルレのレッスンはこんなレッスンです。 \nMONPARUREのレッスンでは入会制度とっておりません。「したいことをする」「行けるときに行く」「作りに行ってみる」をテーマにレッスンを行います。\n \n「キットをイベントや展示会で買ったけどずっとお蔵入りになっている」\n「買ったけど作り方がわからなくてそのままになっている」\n「ビーズをやってみたいけど敷居が高いのでは？」\n「お教室はずっと継続で通わなくてはならないの？」\n \nそんなすべてを解消するのがMONPARUREのレッスンです。\n \n ここに集う皆さんはおなじ「モノづくり」が好きなお仲間たち。1人で初めて「えいっ！」とレッスンに入っても\n直ぐにお仲間になっていけます。モノづくりって「仲間」も「楽しいおしゃべりの時間」も作ってくれます。\n \nたった二時間の時間だけど、きっと・・・充実していただけることをお約束します。\n \n \nまた決まったレッスン日以外の日でもお店は何時も開いています。お店がOPENしている時間はちょっと遠足がてらビーズ好きなお仲間たちとおやつやランチをもってモンパルレのお店へお越しください。\n \n6～8名かけのテーブルがありますのでそこでお仲間たちと一緒に、お店にあるモンパルレのキットや材料から、また手持ちの材料などを持ち込み色々な材料と組み合わせたモノづくりの時間をここでお楽しみいただけます。\nビーズマットや工具などは貸し出しいたします（無料）し、店内での飲食もご自由に＾＾\n（あたたかいお飲み物やおやつなどはご用意しています）\n またお店に下島がいるときは1H1\,250円（税別）でレッスンも可能ですので持ち込み材料などでオリジナルアクセサリー作りのご相談も承ります＾＾\n \nさいたまのちょっと不便な場所にモンパルレのお店はありますが、遠足がてら是非お店へお越しください。\n \nビーズ好きな方々はきっとお店に来ていただけたらモンパルレってこんなお店なんだ～と喜んでいただけるかな？と思います\n \n \n \n \n■レッスンで作りたいアクセサリーについて■\n 今月の課題デザインのアクセサリーまたは、MON PARUREで購入したお手持ちのキットや、レッスン当日にキットサンプルを見てお選びいただけます。「作り始めたけど、分からないところがある」「どうしても綺麗にできない」などなど・・・・ご希望に合わせてレッスンを受けることができます。 \nお申し込みの際には「今月のレッスン課題」または「KITの〇〇を作りたい」等\n ご希望をお伝えください。予めご連絡をお願いいたします。 \n＊＊＊当レッスンでは入会制をとっておりません。参加できる日時にご予約して、お気軽にご参加ください。\n ＊＊＊初めての方も、中級～上級者の方もご希望に合わせてご受講いただけます。 \n 
URL:https://monparure.com/lesson/684
LOCATION:MONPARURE東浦和本店\, 東浦和4-1-16 2F\, さいたま市緑区\, 埼玉県\, 336-0926\, Japan
ORGANIZER;CN="MON PARURE":MAILTO:lesson@monparure.com
END:VEVENT
END:VCALENDAR