BEGIN:VCALENDAR
VERSION:2.0
PRODID:-//MON PARURE - ECPv6.3.5//NONSGML v1.0//EN
CALSCALE:GREGORIAN
METHOD:PUBLISH
X-WR-CALNAME:MON PARURE
X-ORIGINAL-URL:https://monparure.com
X-WR-CALDESC:MON PARURE のイベント
REFRESH-INTERVAL;VALUE=DURATION:PT1H
X-Robots-Tag:noindex
X-PUBLISHED-TTL:PT1H
BEGIN:VTIMEZONE
TZID:Asia/Tokyo
BEGIN:STANDARD
TZOFFSETFROM:+0900
TZOFFSETTO:+0900
TZNAME:JST
DTSTART:20170101T000000
END:STANDARD
END:VTIMEZONE
BEGIN:VEVENT
DTSTART;TZID=Asia/Tokyo:20170924T100000
DTEND;TZID=Asia/Tokyo:20170924T153000
DTSTAMP:20260422T194326
CREATED:20170831T073216Z
LAST-MODIFIED:20170831T073216Z
UID:603-1506247200-1506267000@monparure.com
SUMMARY:9月レッスンのお知らせ
DESCRIPTION:今年の夏は梅雨と夏が逆転？してしまったようなお天気が続きましたね。 \nそんな夏もそろそろ秋へ突入の時期。どこへ出かけても \nハロウィンのものが目に入り季節の到来が \n早々と記憶されていきます。ＭＯＮＰＡＲＵＲＥでも \n今年はちょっぴり早く、ハロウィンにちなんだテーマで \nレッスン課題を企画中。 \n画像はデザインがUPでき次第お知らせいたします \n  \n午前の部　10：00～12：00 \n午後の部　13：30～15：30 \n参加費用（レッスンフィー　2\,700円（税込み＋材料費別途）） \n  \n 
URL:https://monparure.com/lesson/603
LOCATION:MONPARURE東浦和本店\, 東浦和4-1-16 2F\, さいたま市緑区\, 埼玉県\, 336-0926\, Japan
ORGANIZER;CN="MON PARURE":MAILTO:lesson@monparure.com
END:VEVENT
END:VCALENDAR