BEGIN:VCALENDAR
VERSION:2.0
PRODID:-//MON PARURE - ECPv6.3.5//NONSGML v1.0//EN
CALSCALE:GREGORIAN
METHOD:PUBLISH
X-WR-CALNAME:MON PARURE
X-ORIGINAL-URL:https://monparure.com
X-WR-CALDESC:MON PARURE のイベント
REFRESH-INTERVAL;VALUE=DURATION:PT1H
X-Robots-Tag:noindex
X-PUBLISHED-TTL:PT1H
BEGIN:VTIMEZONE
TZID:Asia/Tokyo
BEGIN:STANDARD
TZOFFSETFROM:+0900
TZOFFSETTO:+0900
TZNAME:JST
DTSTART:20170101T000000
END:STANDARD
END:VTIMEZONE
BEGIN:VEVENT
DTSTART;TZID=Asia/Tokyo:20170827T100000
DTEND;TZID=Asia/Tokyo:20170827T153000
DTSTAMP:20260422T180833
CREATED:20170719T015414Z
LAST-MODIFIED:20170719T015414Z
UID:558-1503828000-1503847800@monparure.com
SUMMARY:8月名古屋レッスン
DESCRIPTION:暑い夏ですが素敵なものを作って身に着けて・・・♥ \n暑いからとファッションやおしゃれを怠らないようにしてほしいデス（時分の事を棚に上げて・笑 \nさて。MONPARUREのお久しぶりな名古屋レッスン8月にお伝えするレッスンテーマは \nフラワーブローチとワイヤーで作るアルファベットモチーフネックレス \n  \n■午前の部はフラワーブローチ　　＜＜10：00～12：00＞＞ \n　　 \n  \n        お好きな色を選んで作る刺繍のブローチです。 \n　　　大きさも大中ありますがお持ち帰りもできます。 \n　　　WEBでは販売しない（中央の刺繍部分が説明できないのです） \n　　　ブローチを一緒に作ってみませんか？ \n　　　5\,000円+税（レッスンフィー＆材料費含む） \n  \n  \n■午後はアルファベットモチーフネックレス　　13：00～15：00 \n（何本も作っていただけます） \n  \n \n　　　アーティスティックワイヤーの＃２２番手で作る \n　　　アルファベットモチーフを作ります。ちょっとしたコツをつかめば \n　　　あとは繰り返し形を作るのみ。 \n　　　ワイヤー一巻をお渡ししますのでまずは大きな文字をいくつか作って \n　　　練習し、モチーフを作ってみましょう。一緒に着けるビーズはお好きなものから \n　　　選んでいただけます。 \n　　　5\,500円＋税（レッスンフィー＆材料費含む） \n  \n  \nもちろんこれ以外にもご購入されましたキットのわからないところなどの説明も致しますのでぜひともご持参ください。 \nみなさまのお申し込みを心よりお待ちしております。 \n  \n 
URL:https://monparure.com/lesson/558
LOCATION:名古屋会場＜MYCAFE伏見本店＞\, 中区栄2-2-23アーク白川公園ビルディング7F\, 名古屋市\, 愛知県\, 460-0008\, Japan
ORGANIZER;CN="MON PARURE":MAILTO:lesson@monparure.com
END:VEVENT
END:VCALENDAR