BEGIN:VCALENDAR
VERSION:2.0
PRODID:-//MON PARURE - ECPv6.3.5//NONSGML v1.0//EN
CALSCALE:GREGORIAN
METHOD:PUBLISH
X-ORIGINAL-URL:https://monparure.com
X-WR-CALDESC:MON PARURE のイベント
REFRESH-INTERVAL;VALUE=DURATION:PT1H
X-Robots-Tag:noindex
X-PUBLISHED-TTL:PT1H
BEGIN:VTIMEZONE
TZID:Asia/Tokyo
BEGIN:STANDARD
TZOFFSETFROM:+0900
TZOFFSETTO:+0900
TZNAME:JST
DTSTART:20170101T000000
END:STANDARD
END:VTIMEZONE
BEGIN:VEVENT
DTSTART;TZID=Asia/Tokyo:20170820T100000
DTEND;TZID=Asia/Tokyo:20170820T150000
DTSTAMP:20260422T183001
CREATED:20170719T012349Z
LAST-MODIFIED:20170719T013021Z
UID:543-1503223200-1503241200@monparure.com
SUMMARY:8月フリーレッスンのおしらせとテーマ
DESCRIPTION:暑い夏ですが素敵なものを作って身に着けて・・・♥ \n暑いからとファッションやおしゃれを怠らないようにしてほしいデス（時分の事を棚に上げて・笑 \nさて。MONPARUREの8月にお伝えするレッスンテーマは「クロッシェでボールを編む」です \nラメのレース糸を使ってキラキラのチェコを使ってペンダントトップを作ります。 \n時間内に仕上げたいので、ピンワークはすべて終わらせて準備をしておきます \nまた「クロッシェボールならすぐにできる！」という方には少しだけ難解な・＾＾； \nクロッシェボールをお伝えしたいなと思います。 \n  \n画像はデザインがUPでき次第お知らせいたします \n  \n午前の部　10：00～12：00 \n午後の部　13：30～15：30 \n参加費用（レッスンフィー・材料費込　5\,500円（税別）） \n  \n 
URL:https://monparure.com/lesson/543
LOCATION:MONPARURE東浦和本店\, 東浦和4-1-16 2F\, さいたま市緑区\, 埼玉県\, 336-0926\, Japan
ORGANIZER;CN="MON PARURE":MAILTO:lesson@monparure.com
END:VEVENT
END:VCALENDAR