BEGIN:VCALENDAR
VERSION:2.0
PRODID:-//MON PARURE - ECPv6.3.5//NONSGML v1.0//EN
CALSCALE:GREGORIAN
METHOD:PUBLISH
X-ORIGINAL-URL:https://monparure.com
X-WR-CALDESC:MON PARURE のイベント
REFRESH-INTERVAL;VALUE=DURATION:PT1H
X-Robots-Tag:noindex
X-PUBLISHED-TTL:PT1H
BEGIN:VTIMEZONE
TZID:Asia/Tokyo
BEGIN:STANDARD
TZOFFSETFROM:+0900
TZOFFSETTO:+0900
TZNAME:JST
DTSTART:20170101T000000
END:STANDARD
END:VTIMEZONE
BEGIN:VEVENT
DTSTART;TZID=Asia/Tokyo:20170624T130000
DTEND;TZID=Asia/Tokyo:20170624T143000
DTSTAMP:20260422T151449
CREATED:20170621T053024Z
LAST-MODIFIED:20170621T053024Z
UID:475-1498309200-1498314600@monparure.com
SUMMARY:フラワーレッスンのお誘い～in表参道サロン～
DESCRIPTION:革で作るアクセサリーはとてもラグジュアル感のあるデザインと質感です \nオトナ可愛いを提案したく、淡いお色を用意しました。大小二つのブローチをつけるととってもかわいらしく \nどんなお洋服もランクアップして見えてしまいます本店レッスンでも「プレゼントにもいい！」と \n好評いただいていたアクセサリーです \nこちらのデザインはWEBキット販売がありませんのでこの機会に一緒に作ってみましょう！ \n \n　    　 \n \n◇レッスン日程◇ \n6月24日　土曜日　　13：00～14：30 \n6月26日　月曜日　　18：30～21：00 \n6月27日　火曜日　　11：00～13：30 \n6月28日　水曜日　　11：00～13：30 \n6月29日　木曜日　　13：00～14：30 \n7月08日　土曜日　　13：00～14：30 \n各回定員５～６名様まで \n＊徐々に予約が入っております＊ \n◇場所◇ \n表参道サロン　　東京都港区南青山5-11-10　菅谷ビル202号 \n◇お申し込み◇ \n048-799-2406またはinfo@monparure.comまで \nお名前・連絡先をお知らせください \n◇当日持ち物◇ \n何もお持ちいただくものはございません。手ぶらでごゆるりとお過ごしくださいませ \nレッスンではその日その時間に一緒になった方とは何かの「ご縁」があると信じています＾＾ \nそんなコミュニティーの提供や、きれいなものを作り身に着ける喜びを感じていただくとともに \nそのために作る時間は自分にとっても「ココロ休まる」時間になることだと思います \nおいしい紅茶とセレクトしたお菓子とともに \nゆっくりとした時間の中でワクワクする時間を過ごしていただけるような \nサロンレッスンです。皆様のお申し込みを心よりお待ち申し上げております
URL:https://monparure.com/lesson/475
LOCATION:表参道サロン\, 南青山5丁目10-11\, 港区\, 東京都\, 107-0062\, Japan
ORGANIZER;CN="MON PARURE":MAILTO:lesson@monparure.com
END:VEVENT
END:VCALENDAR