BEGIN:VCALENDAR
VERSION:2.0
PRODID:-//MON PARURE - ECPv6.3.5//NONSGML v1.0//EN
CALSCALE:GREGORIAN
METHOD:PUBLISH
X-ORIGINAL-URL:https://monparure.com
X-WR-CALDESC:MON PARURE のイベント
REFRESH-INTERVAL;VALUE=DURATION:PT1H
X-Robots-Tag:noindex
X-PUBLISHED-TTL:PT1H
BEGIN:VTIMEZONE
TZID:Asia/Tokyo
BEGIN:STANDARD
TZOFFSETFROM:+0900
TZOFFSETTO:+0900
TZNAME:JST
DTSTART:20180101T000000
END:STANDARD
END:VTIMEZONE
BEGIN:VEVENT
DTSTART;TZID=Asia/Tokyo:20180530T113000
DTEND;TZID=Asia/Tokyo:20180530T140000
DTSTAMP:20260423T073841
CREATED:20180525T002936Z
LAST-MODIFIED:20180525T002936Z
UID:992-1527679800-1527688800@monparure.com
SUMMARY:＜定期レッスン＞貴和製作所～ラフォーレ原宿～レッスンのお知らせ
DESCRIPTION:  \n貴和製作所　ラフォーレ原宿レッスンのお知らせです。 \n\n\n\n\n　日時\n　5月30日\n\n\n　レッスンフィー（材料費込\n　4\,800円+税\n\n\n　持ち物\n\n　筆記用具 \n\n\n\n　お申込み\n\n　貴和製作所 \n　03-5775-4050 \n\n\n\n\n・・・・・・・・・・・・・・・・・・・・・・・・・・・・・・・・・・・・・・・・・・・・・・ \n  \n初めてさん・作ったことがあるけどコツを知りたい。可愛いもの大好き！ \n同じ仲間たちが募って手作りをする時間はとっても楽しい時間です。一緒に作って楽しみましょう \n  \n  \n  \n 
URL:https://monparure.com/lesson/992
LOCATION:貴和製作所　ビーズラボ+カフェ（ラフォーレ原宿）\, 神宮前一丁目11-6\, 渋谷区\, 東京都\, Japan
END:VEVENT
BEGIN:VEVENT
DTSTART;TZID=Asia/Tokyo:20180531T113000
DTEND;TZID=Asia/Tokyo:20180531T140000
DTSTAMP:20260423T073841
CREATED:20180525T003112Z
LAST-MODIFIED:20180525T003112Z
UID:996-1527766200-1527775200@monparure.com
SUMMARY:＜定期レッスン＞貴和製作所～キラリト銀座～レッスンのお知らせ
DESCRIPTION:  \n貴和製作所　キラリト銀座レッスンのお知らせです。 \n\n\n\n\n　日時\n　5月30日\n\n\n　レッスンフィー（材料費込\n　4\,800円+税\n\n\n　持ち物\n\n　筆記用具 \n\n\n\n　お申込み\n\n　貴和製作所 \n　03-6264-4811 \n\n\n\n\n・・・・・・・・・・・・・・・・・・・・・・・・・・・・・・・・・・・・・・・・・・・・・・ \n  \n初めてさん・作ったことがあるけどコツを知りたい。可愛いもの大好き！ \n同じ仲間たちが募って手作りをする時間はとっても楽しい時間です。一緒に作って楽しみましょう \n  \n  \n  \n 
URL:https://monparure.com/lesson/996
LOCATION:貴和製作所　キラリト銀座\, 銀座1丁目8−19\, 中央区\, 東京都\, 1040061\, Japan
END:VEVENT
END:VCALENDAR