BEGIN:VCALENDAR
VERSION:2.0
PRODID:-//MON PARURE - ECPv6.3.5//NONSGML v1.0//EN
CALSCALE:GREGORIAN
METHOD:PUBLISH
X-ORIGINAL-URL:https://monparure.com
X-WR-CALDESC:MON PARURE のイベント
REFRESH-INTERVAL;VALUE=DURATION:PT1H
X-Robots-Tag:noindex
X-PUBLISHED-TTL:PT1H
BEGIN:VTIMEZONE
TZID:Asia/Tokyo
BEGIN:STANDARD
TZOFFSETFROM:+0900
TZOFFSETTO:+0900
TZNAME:JST
DTSTART:20170101T000000
END:STANDARD
END:VTIMEZONE
BEGIN:VEVENT
DTSTART;TZID=Asia/Tokyo:20171201T090000
DTEND;TZID=Asia/Tokyo:20171201T170000
DTSTAMP:20260422T225318
CREATED:20171121T014340Z
LAST-MODIFIED:20171121T014758Z
UID:692-1512118800-1512147600@monparure.com
SUMMARY:シモジマ１2月在店のお知らせ
DESCRIPTION:シモジマ12月　在店日時間のお知らせです。 \n9：00～18：00 \n＊この日は終日お店にいます。ご来店でプチレッスンをご希望の方はお気軽にお声かけ下さい \n（（一時間　1\,250円+税を頂戴します）） \n  \n・・・・・・・・・・・・・・・・・・・・・・・・・・・・・・・・・・・ \n■12月のレッスンは12/17日曜日：12/18月曜日です■ \nモンパルレのレッスンはこんなレッスンです。 \nMONPARUREのレッスンでは入会制度とっておりません。「したいことをする」「行けるときに行く」「作りに行ってみる」をテーマにレッスンを行います。\n \n「キットをイベントや展示会で買ったけどずっとお蔵入りになっている」\n「買ったけど作り方がわからなくてそのままになっている」\n「ビーズをやってみたいけど敷居が高いのでは？」\n「お教室はずっと継続で通わなくてはならないの？」\n \nそんなすべてを解消するのがMONPARUREのレッスンです。\n \n ここに集う皆さんはおなじ「モノづくり」が好きなお仲間たち。1人で初めて「えいっ！」とレッスンに入っても\n直ぐにお仲間になっていけます。モノづくりって「仲間」も「楽しいおしゃべりの時間」も作ってくれます。\n \nたった二時間の時間だけど、きっと・・・充実していただけることをお約束します。\n \n \nまた決まったレッスン日以外の日でもお店は何時も開いています。お店がOPENしている時間はちょっと遠足がてらビーズ好きなお仲間たちとおやつやランチをもってモンパルレのお店へお越しください。\n \n6～8名かけのテーブルがありますのでそこでお仲間たちと一緒に、お店にあるモンパルレのキットや材料から、また手持ちの材料などを持ち込み色々な材料と組み合わせたモノづくりの時間をここでお楽しみいただけます。\nビーズマットや工具などは貸し出しいたします（無料）し、店内での飲食もご自由に＾＾\n（あたたかいお飲み物やおやつなどはご用意しています）\n またお店に下島がいるときは1H1\,250円（税別）でレッスンも可能ですので持ち込み材料などでオリジナルアクセサリー作りのご相談も承ります＾＾\n \nさいたまのちょっと不便な場所にモンパルレのお店はありますが、遠足がてら是非お店へお越しください。\n \nビーズ好きな方々はきっとお店に来ていただけたらモンパルレってこんなお店なんだ～と喜んでいただけるかな？と思います\n \n \n \n \n■レッスンで作りたいアクセサリーについて■\n 今月の課題デザインのアクセサリーまたは、MON PARUREで購入したお手持ちのキットや、レッスン当日にキットサンプルを見てお選びいただけます。「作り始めたけど、分からないところがある」「どうしても綺麗にできない」などなど・・・・ご希望に合わせてレッスンを受けることができます。 \nお申し込みの際には「今月のレッスン課題」または「KITの〇〇を作りたい」等\n ご希望をお伝えください。予めご連絡をお願いいたします。 \n＊＊＊当レッスンでは入会制をとっておりません。参加できる日時にご予約して、お気軽にご参加ください。\n ＊＊＊初めての方も、中級～上級者の方もご希望に合わせてご受講いただけます。 \n 
URL:https://monparure.com/lesson/692
LOCATION:MONPARURE東浦和本店\, 東浦和4-1-16 2F\, さいたま市緑区\, 埼玉県\, 336-0926\, Japan
ORGANIZER;CN="MON PARURE":MAILTO:lesson@monparure.com
END:VEVENT
BEGIN:VEVENT
DTSTART;TZID=Asia/Tokyo:20171204T090000
DTEND;TZID=Asia/Tokyo:20171204T180000
DTSTAMP:20260422T225318
CREATED:20171121T014429Z
LAST-MODIFIED:20171121T014737Z
UID:694-1512378000-1512410400@monparure.com
SUMMARY:シモジマ１2月在店のお知らせ
DESCRIPTION:シモジマ12月　在店日時間のお知らせです。 \n9：00～18：00 \n＊この日は終日お店にいます。ご来店でプチレッスンをご希望の方はお気軽にお声かけ下さい \n（（一時間　1\,250円+税を頂戴します）） \n  \n・・・・・・・・・・・・・・・・・・・・・・・・・・・・・・・・・・・ \n■12月のレッスンは12/17日曜日：12/18月曜日です■ \nモンパルレのレッスンはこんなレッスンです。 \nMONPARUREのレッスンでは入会制度とっておりません。「したいことをする」「行けるときに行く」「作りに行ってみる」をテーマにレッスンを行います。\n \n「キットをイベントや展示会で買ったけどずっとお蔵入りになっている」\n「買ったけど作り方がわからなくてそのままになっている」\n「ビーズをやってみたいけど敷居が高いのでは？」\n「お教室はずっと継続で通わなくてはならないの？」\n \nそんなすべてを解消するのがMONPARUREのレッスンです。\n \n ここに集う皆さんはおなじ「モノづくり」が好きなお仲間たち。1人で初めて「えいっ！」とレッスンに入っても\n直ぐにお仲間になっていけます。モノづくりって「仲間」も「楽しいおしゃべりの時間」も作ってくれます。\n \nたった二時間の時間だけど、きっと・・・充実していただけることをお約束します。\n \n \nまた決まったレッスン日以外の日でもお店は何時も開いています。お店がOPENしている時間はちょっと遠足がてらビーズ好きなお仲間たちとおやつやランチをもってモンパルレのお店へお越しください。\n \n6～8名かけのテーブルがありますのでそこでお仲間たちと一緒に、お店にあるモンパルレのキットや材料から、また手持ちの材料などを持ち込み色々な材料と組み合わせたモノづくりの時間をここでお楽しみいただけます。\nビーズマットや工具などは貸し出しいたします（無料）し、店内での飲食もご自由に＾＾\n（あたたかいお飲み物やおやつなどはご用意しています）\n またお店に下島がいるときは1H1\,250円（税別）でレッスンも可能ですので持ち込み材料などでオリジナルアクセサリー作りのご相談も承ります＾＾\n \nさいたまのちょっと不便な場所にモンパルレのお店はありますが、遠足がてら是非お店へお越しください。\n \nビーズ好きな方々はきっとお店に来ていただけたらモンパルレってこんなお店なんだ～と喜んでいただけるかな？と思います\n \n \n \n \n■レッスンで作りたいアクセサリーについて■\n 今月の課題デザインのアクセサリーまたは、MON PARUREで購入したお手持ちのキットや、レッスン当日にキットサンプルを見てお選びいただけます。「作り始めたけど、分からないところがある」「どうしても綺麗にできない」などなど・・・・ご希望に合わせてレッスンを受けることができます。 \nお申し込みの際には「今月のレッスン課題」または「KITの〇〇を作りたい」等\n ご希望をお伝えください。予めご連絡をお願いいたします。 \n＊＊＊当レッスンでは入会制をとっておりません。参加できる日時にご予約して、お気軽にご参加ください。\n ＊＊＊初めての方も、中級～上級者の方もご希望に合わせてご受講いただけます。 \n 
URL:https://monparure.com/lesson/694
LOCATION:MONPARURE東浦和本店\, 東浦和4-1-16 2F\, さいたま市緑区\, 埼玉県\, 336-0926\, Japan
ORGANIZER;CN="MON PARURE":MAILTO:lesson@monparure.com
END:VEVENT
BEGIN:VEVENT
DTSTART;TZID=Asia/Tokyo:20171205T130000
DTEND;TZID=Asia/Tokyo:20171205T180000
DTSTAMP:20260422T225318
CREATED:20171121T014507Z
LAST-MODIFIED:20171129T084359Z
UID:696-1512478800-1512496800@monparure.com
SUMMARY:シモジマ１2月在店のお知らせ
DESCRIPTION:シモジマ12月　在店日時間のお知らせです。 \n13：00～18：00 \n＊この日は終日お店にいます。ご来店でプチレッスンをご希望の方はお気軽にお声かけ下さい \n（（一時間　1\,250円+税を頂戴します）） \n  \n・・・・・・・・・・・・・・・・・・・・・・・・・・・・・・・・・・・ \n■12月のレッスンは12/17日曜日：12/18月曜日です■ \nモンパルレのレッスンはこんなレッスンです。 \nMONPARUREのレッスンでは入会制度とっておりません。「したいことをする」「行けるときに行く」「作りに行ってみる」をテーマにレッスンを行います。\n \n「キットをイベントや展示会で買ったけどずっとお蔵入りになっている」\n「買ったけど作り方がわからなくてそのままになっている」\n「ビーズをやってみたいけど敷居が高いのでは？」\n「お教室はずっと継続で通わなくてはならないの？」\n \nそんなすべてを解消するのがMONPARUREのレッスンです。\n \n ここに集う皆さんはおなじ「モノづくり」が好きなお仲間たち。1人で初めて「えいっ！」とレッスンに入っても\n直ぐにお仲間になっていけます。モノづくりって「仲間」も「楽しいおしゃべりの時間」も作ってくれます。\n \nたった二時間の時間だけど、きっと・・・充実していただけることをお約束します。\n \n \nまた決まったレッスン日以外の日でもお店は何時も開いています。お店がOPENしている時間はちょっと遠足がてらビーズ好きなお仲間たちとおやつやランチをもってモンパルレのお店へお越しください。\n \n6～8名かけのテーブルがありますのでそこでお仲間たちと一緒に、お店にあるモンパルレのキットや材料から、また手持ちの材料などを持ち込み色々な材料と組み合わせたモノづくりの時間をここでお楽しみいただけます。\nビーズマットや工具などは貸し出しいたします（無料）し、店内での飲食もご自由に＾＾\n（あたたかいお飲み物やおやつなどはご用意しています）\n またお店に下島がいるときは1H1\,250円（税別）でレッスンも可能ですので持ち込み材料などでオリジナルアクセサリー作りのご相談も承ります＾＾\n \nさいたまのちょっと不便な場所にモンパルレのお店はありますが、遠足がてら是非お店へお越しください。\n \nビーズ好きな方々はきっとお店に来ていただけたらモンパルレってこんなお店なんだ～と喜んでいただけるかな？と思います\n \n \n \n \n■レッスンで作りたいアクセサリーについて■\n 今月の課題デザインのアクセサリーまたは、MON PARUREで購入したお手持ちのキットや、レッスン当日にキットサンプルを見てお選びいただけます。「作り始めたけど、分からないところがある」「どうしても綺麗にできない」などなど・・・・ご希望に合わせてレッスンを受けることができます。 \nお申し込みの際には「今月のレッスン課題」または「KITの〇〇を作りたい」等\n ご希望をお伝えください。予めご連絡をお願いいたします。 \n＊＊＊当レッスンでは入会制をとっておりません。参加できる日時にご予約して、お気軽にご参加ください。\n ＊＊＊初めての方も、中級～上級者の方もご希望に合わせてご受講いただけます。 \n 
URL:https://monparure.com/lesson/696
LOCATION:MONPARURE東浦和本店\, 東浦和4-1-16 2F\, さいたま市緑区\, 埼玉県\, 336-0926\, Japan
ORGANIZER;CN="MON PARURE":MAILTO:lesson@monparure.com
END:VEVENT
BEGIN:VEVENT
DTSTART;TZID=Asia/Tokyo:20171206T090000
DTEND;TZID=Asia/Tokyo:20171206T180000
DTSTAMP:20260422T225318
CREATED:20171121T014536Z
LAST-MODIFIED:20171121T014716Z
UID:698-1512550800-1512583200@monparure.com
SUMMARY:シモジマ１2月在店のお知らせ
DESCRIPTION:シモジマ12月　在店日時間のお知らせです。 \n9：00～18：00 \n＊この日は終日お店にいます。ご来店でプチレッスンをご希望の方はお気軽にお声かけ下さい \n（（一時間　1\,250円+税を頂戴します）） \n  \n・・・・・・・・・・・・・・・・・・・・・・・・・・・・・・・・・・・ \n■12月のレッスンは12/17日曜日：12/18月曜日です■ \nモンパルレのレッスンはこんなレッスンです。 \nMONPARUREのレッスンでは入会制度とっておりません。「したいことをする」「行けるときに行く」「作りに行ってみる」をテーマにレッスンを行います。\n \n「キットをイベントや展示会で買ったけどずっとお蔵入りになっている」\n「買ったけど作り方がわからなくてそのままになっている」\n「ビーズをやってみたいけど敷居が高いのでは？」\n「お教室はずっと継続で通わなくてはならないの？」\n \nそんなすべてを解消するのがMONPARUREのレッスンです。\n \n ここに集う皆さんはおなじ「モノづくり」が好きなお仲間たち。1人で初めて「えいっ！」とレッスンに入っても\n直ぐにお仲間になっていけます。モノづくりって「仲間」も「楽しいおしゃべりの時間」も作ってくれます。\n \nたった二時間の時間だけど、きっと・・・充実していただけることをお約束します。\n \n \nまた決まったレッスン日以外の日でもお店は何時も開いています。お店がOPENしている時間はちょっと遠足がてらビーズ好きなお仲間たちとおやつやランチをもってモンパルレのお店へお越しください。\n \n6～8名かけのテーブルがありますのでそこでお仲間たちと一緒に、お店にあるモンパルレのキットや材料から、また手持ちの材料などを持ち込み色々な材料と組み合わせたモノづくりの時間をここでお楽しみいただけます。\nビーズマットや工具などは貸し出しいたします（無料）し、店内での飲食もご自由に＾＾\n（あたたかいお飲み物やおやつなどはご用意しています）\n またお店に下島がいるときは1H1\,250円（税別）でレッスンも可能ですので持ち込み材料などでオリジナルアクセサリー作りのご相談も承ります＾＾\n \nさいたまのちょっと不便な場所にモンパルレのお店はありますが、遠足がてら是非お店へお越しください。\n \nビーズ好きな方々はきっとお店に来ていただけたらモンパルレってこんなお店なんだ～と喜んでいただけるかな？と思います\n \n \n \n \n■レッスンで作りたいアクセサリーについて■\n 今月の課題デザインのアクセサリーまたは、MON PARUREで購入したお手持ちのキットや、レッスン当日にキットサンプルを見てお選びいただけます。「作り始めたけど、分からないところがある」「どうしても綺麗にできない」などなど・・・・ご希望に合わせてレッスンを受けることができます。 \nお申し込みの際には「今月のレッスン課題」または「KITの〇〇を作りたい」等\n ご希望をお伝えください。予めご連絡をお願いいたします。 \n＊＊＊当レッスンでは入会制をとっておりません。参加できる日時にご予約して、お気軽にご参加ください。\n ＊＊＊初めての方も、中級～上級者の方もご希望に合わせてご受講いただけます。 \n 
URL:https://monparure.com/lesson/698
LOCATION:MONPARURE東浦和本店\, 東浦和4-1-16 2F\, さいたま市緑区\, 埼玉県\, 336-0926\, Japan
ORGANIZER;CN="MON PARURE":MAILTO:lesson@monparure.com
END:VEVENT
BEGIN:VEVENT
DTSTART;TZID=Asia/Tokyo:20171207T090000
DTEND;TZID=Asia/Tokyo:20171207T180000
DTSTAMP:20260422T225318
CREATED:20171121T014614Z
LAST-MODIFIED:20171121T014614Z
UID:700-1512637200-1512669600@monparure.com
SUMMARY:シモジマ１2月在店のお知らせ
DESCRIPTION:シモジマ12月　在店日時間のお知らせです。 \n9：00～18：00 \n＊この日は終日お店にいます。ご来店でプチレッスンをご希望の方はお気軽にお声かけ下さい \n（（一時間　1\,250円+税を頂戴します）） \n  \n・・・・・・・・・・・・・・・・・・・・・・・・・・・・・・・・・・・ \n■12月のレッスンは12/17日曜日：12/18月曜日です■ \nモンパルレのレッスンはこんなレッスンです。 \nMONPARUREのレッスンでは入会制度とっておりません。「したいことをする」「行けるときに行く」「作りに行ってみる」をテーマにレッスンを行います。\n \n「キットをイベントや展示会で買ったけどずっとお蔵入りになっている」\n「買ったけど作り方がわからなくてそのままになっている」\n「ビーズをやってみたいけど敷居が高いのでは？」\n「お教室はずっと継続で通わなくてはならないの？」\n \nそんなすべてを解消するのがMONPARUREのレッスンです。\n \n ここに集う皆さんはおなじ「モノづくり」が好きなお仲間たち。1人で初めて「えいっ！」とレッスンに入っても\n直ぐにお仲間になっていけます。モノづくりって「仲間」も「楽しいおしゃべりの時間」も作ってくれます。\n \nたった二時間の時間だけど、きっと・・・充実していただけることをお約束します。\n \n \nまた決まったレッスン日以外の日でもお店は何時も開いています。お店がOPENしている時間はちょっと遠足がてらビーズ好きなお仲間たちとおやつやランチをもってモンパルレのお店へお越しください。\n \n6～8名かけのテーブルがありますのでそこでお仲間たちと一緒に、お店にあるモンパルレのキットや材料から、また手持ちの材料などを持ち込み色々な材料と組み合わせたモノづくりの時間をここでお楽しみいただけます。\nビーズマットや工具などは貸し出しいたします（無料）し、店内での飲食もご自由に＾＾\n（あたたかいお飲み物やおやつなどはご用意しています）\n またお店に下島がいるときは1H1\,250円（税別）でレッスンも可能ですので持ち込み材料などでオリジナルアクセサリー作りのご相談も承ります＾＾\n \nさいたまのちょっと不便な場所にモンパルレのお店はありますが、遠足がてら是非お店へお越しください。\n \nビーズ好きな方々はきっとお店に来ていただけたらモンパルレってこんなお店なんだ～と喜んでいただけるかな？と思います\n \n \n \n \n■レッスンで作りたいアクセサリーについて■\n 今月の課題デザインのアクセサリーまたは、MON PARUREで購入したお手持ちのキットや、レッスン当日にキットサンプルを見てお選びいただけます。「作り始めたけど、分からないところがある」「どうしても綺麗にできない」などなど・・・・ご希望に合わせてレッスンを受けることができます。 \nお申し込みの際には「今月のレッスン課題」または「KITの〇〇を作りたい」等\n ご希望をお伝えください。予めご連絡をお願いいたします。 \n＊＊＊当レッスンでは入会制をとっておりません。参加できる日時にご予約して、お気軽にご参加ください。\n ＊＊＊初めての方も、中級～上級者の方もご希望に合わせてご受講いただけます。 \n 
URL:https://monparure.com/lesson/700
LOCATION:MONPARURE東浦和本店\, 東浦和4-1-16 2F\, さいたま市緑区\, 埼玉県\, 336-0926\, Japan
ORGANIZER;CN="MON PARURE":MAILTO:lesson@monparure.com
END:VEVENT
BEGIN:VEVENT
DTSTART;TZID=Asia/Tokyo:20171217T100000
DTEND;TZID=Asia/Tokyo:20171217T153000
DTSTAMP:20260422T225318
CREATED:20171121T013358Z
LAST-MODIFIED:20171121T013358Z
UID:684-1513504800-1513524600@monparure.com
SUMMARY:12月レッスンのお知らせ
DESCRIPTION:12月レッスン課題のお知らせです。 \nシモジマが9月にイタリアで拾ってきた松ぼっくりとビーズをコラボさせて \nオーナメントを作ります。サンプル画像は後日UPします。 \nイタリアの松ぼっくりはとても大きくて形もとてもキレイ。 \n有名なビオワインのワイナリーで拾ってきました。 \n  \n・・・・・・・・・・・・・・・・・・・・・・・・・・・・・・・・・・・ \n□イタリアシシリー産　松ぼっくりを使ったオーナメントを作りましょう□ \n午前の部　10：00～12：00（12：30から1時間ほどお時間を頂戴します～午前・午後レッスン合同ランチ会開催）\n 午後の部　13：30～15：30（12：30にお越しください～午前・午後レッスン合同ランチ会開催） \n参加費用（レッスンフィー　2\,700円（税込み）ランチ会は無料です） \n材料費　4\,000円（税別） \n  \n・・・・・・・・・・・・・・・・・・・・・・・・・・・・・・・・・・・ \nモンパルレのレッスンはこんなレッスンです。 \nMONPARUREのレッスンでは入会制度とっておりません。「したいことをする」「行けるときに行く」「作りに行ってみる」をテーマにレッスンを行います。\n \n「キットをイベントや展示会で買ったけどずっとお蔵入りになっている」\n「買ったけど作り方がわからなくてそのままになっている」\n「ビーズをやってみたいけど敷居が高いのでは？」\n「お教室はずっと継続で通わなくてはならないの？」\n \nそんなすべてを解消するのがMONPARUREのレッスンです。\n \n ここに集う皆さんはおなじ「モノづくり」が好きなお仲間たち。1人で初めて「えいっ！」とレッスンに入っても\n直ぐにお仲間になっていけます。モノづくりって「仲間」も「楽しいおしゃべりの時間」も作ってくれます。\n \nたった二時間の時間だけど、きっと・・・充実していただけることをお約束します。\n \n \nまた決まったレッスン日以外の日でもお店は何時も開いています。お店がOPENしている時間はちょっと遠足がてらビーズ好きなお仲間たちとおやつやランチをもってモンパルレのお店へお越しください。\n \n6～8名かけのテーブルがありますのでそこでお仲間たちと一緒に、お店にあるモンパルレのキットや材料から、また手持ちの材料などを持ち込み色々な材料と組み合わせたモノづくりの時間をここでお楽しみいただけます。\nビーズマットや工具などは貸し出しいたします（無料）し、店内での飲食もご自由に＾＾\n（あたたかいお飲み物やおやつなどはご用意しています）\n またお店に下島がいるときは1H1\,250円（税別）でレッスンも可能ですので持ち込み材料などでオリジナルアクセサリー作りのご相談も承ります＾＾\n \nさいたまのちょっと不便な場所にモンパルレのお店はありますが、遠足がてら是非お店へお越しください。\n \nビーズ好きな方々はきっとお店に来ていただけたらモンパルレってこんなお店なんだ～と喜んでいただけるかな？と思います\n \n \n \n \n■レッスンで作りたいアクセサリーについて■\n 今月の課題デザインのアクセサリーまたは、MON PARUREで購入したお手持ちのキットや、レッスン当日にキットサンプルを見てお選びいただけます。「作り始めたけど、分からないところがある」「どうしても綺麗にできない」などなど・・・・ご希望に合わせてレッスンを受けることができます。 \nお申し込みの際には「今月のレッスン課題」または「KITの〇〇を作りたい」等\n ご希望をお伝えください。予めご連絡をお願いいたします。 \n＊＊＊当レッスンでは入会制をとっておりません。参加できる日時にご予約して、お気軽にご参加ください。\n ＊＊＊初めての方も、中級～上級者の方もご希望に合わせてご受講いただけます。 \n 
URL:https://monparure.com/lesson/684
LOCATION:MONPARURE東浦和本店\, 東浦和4-1-16 2F\, さいたま市緑区\, 埼玉県\, 336-0926\, Japan
ORGANIZER;CN="MON PARURE":MAILTO:lesson@monparure.com
END:VEVENT
BEGIN:VEVENT
DTSTART;TZID=Asia/Tokyo:20171218T100000
DTEND;TZID=Asia/Tokyo:20171218T153000
DTSTAMP:20260422T225318
CREATED:20171121T013426Z
LAST-MODIFIED:20171121T013426Z
UID:686-1513591200-1513611000@monparure.com
SUMMARY:12月レッスンのお知らせ
DESCRIPTION:12月レッスン課題のお知らせです。 \nシモジマが9月にイタリアで拾ってきた松ぼっくりとビーズをコラボさせて \nオーナメントを作ります。サンプル画像は後日UPします。 \nイタリアの松ぼっくりはとても大きくて形もとてもキレイ。 \n有名なビオワインのワイナリーで拾ってきました。 \n  \n・・・・・・・・・・・・・・・・・・・・・・・・・・・・・・・・・・・ \n□イタリアシシリー産　松ぼっくりを使ったオーナメントを作りましょう□ \n午前の部　10：00～12：00（12：30から1時間ほどお時間を頂戴します～午前・午後レッスン合同ランチ会開催）\n 午後の部　13：30～15：30（12：30にお越しください～午前・午後レッスン合同ランチ会開催） \n参加費用（レッスンフィー　2\,700円（税込み）ランチ会は無料です） \n材料費　4\,000円（税別） \n  \n・・・・・・・・・・・・・・・・・・・・・・・・・・・・・・・・・・・ \nモンパルレのレッスンはこんなレッスンです。 \nMONPARUREのレッスンでは入会制度とっておりません。「したいことをする」「行けるときに行く」「作りに行ってみる」をテーマにレッスンを行います。\n \n「キットをイベントや展示会で買ったけどずっとお蔵入りになっている」\n「買ったけど作り方がわからなくてそのままになっている」\n「ビーズをやってみたいけど敷居が高いのでは？」\n「お教室はずっと継続で通わなくてはならないの？」\n \nそんなすべてを解消するのがMONPARUREのレッスンです。\n \n ここに集う皆さんはおなじ「モノづくり」が好きなお仲間たち。1人で初めて「えいっ！」とレッスンに入っても\n直ぐにお仲間になっていけます。モノづくりって「仲間」も「楽しいおしゃべりの時間」も作ってくれます。\n \nたった二時間の時間だけど、きっと・・・充実していただけることをお約束します。\n \n \nまた決まったレッスン日以外の日でもお店は何時も開いています。お店がOPENしている時間はちょっと遠足がてらビーズ好きなお仲間たちとおやつやランチをもってモンパルレのお店へお越しください。\n \n6～8名かけのテーブルがありますのでそこでお仲間たちと一緒に、お店にあるモンパルレのキットや材料から、また手持ちの材料などを持ち込み色々な材料と組み合わせたモノづくりの時間をここでお楽しみいただけます。\nビーズマットや工具などは貸し出しいたします（無料）し、店内での飲食もご自由に＾＾\n（あたたかいお飲み物やおやつなどはご用意しています）\n またお店に下島がいるときは1H1\,250円（税別）でレッスンも可能ですので持ち込み材料などでオリジナルアクセサリー作りのご相談も承ります＾＾\n \nさいたまのちょっと不便な場所にモンパルレのお店はありますが、遠足がてら是非お店へお越しください。\n \nビーズ好きな方々はきっとお店に来ていただけたらモンパルレってこんなお店なんだ～と喜んでいただけるかな？と思います\n \n \n \n \n■レッスンで作りたいアクセサリーについて■\n 今月の課題デザインのアクセサリーまたは、MON PARUREで購入したお手持ちのキットや、レッスン当日にキットサンプルを見てお選びいただけます。「作り始めたけど、分からないところがある」「どうしても綺麗にできない」などなど・・・・ご希望に合わせてレッスンを受けることができます。 \nお申し込みの際には「今月のレッスン課題」または「KITの〇〇を作りたい」等\n ご希望をお伝えください。予めご連絡をお願いいたします。 \n＊＊＊当レッスンでは入会制をとっておりません。参加できる日時にご予約して、お気軽にご参加ください。\n ＊＊＊初めての方も、中級～上級者の方もご希望に合わせてご受講いただけます。 \n 
URL:https://monparure.com/lesson/686
LOCATION:MONPARURE東浦和本店\, 東浦和4-1-16 2F\, さいたま市緑区\, 埼玉県\, 336-0926\, Japan
ORGANIZER;CN="MON PARURE":MAILTO:lesson@monparure.com
END:VEVENT
BEGIN:VEVENT
DTSTART;TZID=Asia/Tokyo:20171219T090000
DTEND;TZID=Asia/Tokyo:20171219T180000
DTSTAMP:20260422T225318
CREATED:20171121T014921Z
LAST-MODIFIED:20171121T014921Z
UID:707-1513674000-1513706400@monparure.com
SUMMARY:シモジマ１2月在店のお知らせ
DESCRIPTION:シモジマ12月　在店日時間のお知らせです。 \n9：00～18：00 \n＊この日は終日お店にいます。ご来店でプチレッスンをご希望の方はお気軽にお声かけ下さい \n（（一時間　1\,250円+税を頂戴します）） \n  \n・・・・・・・・・・・・・・・・・・・・・・・・・・・・・・・・・・・ \n■2018年レッスンの情報はお待ちください■ \nモンパルレのレッスンはこんなレッスンです。 \nMONPARUREのレッスンでは入会制度とっておりません。「したいことをする」「行けるときに行く」「作りに行ってみる」をテーマにレッスンを行います。\n \n「キットをイベントや展示会で買ったけどずっとお蔵入りになっている」\n「買ったけど作り方がわからなくてそのままになっている」\n「ビーズをやってみたいけど敷居が高いのでは？」\n「お教室はずっと継続で通わなくてはならないの？」\n \nそんなすべてを解消するのがMONPARUREのレッスンです。\n \n ここに集う皆さんはおなじ「モノづくり」が好きなお仲間たち。1人で初めて「えいっ！」とレッスンに入っても\n直ぐにお仲間になっていけます。モノづくりって「仲間」も「楽しいおしゃべりの時間」も作ってくれます。\n \nたった二時間の時間だけど、きっと・・・充実していただけることをお約束します。\n \n \nまた決まったレッスン日以外の日でもお店は何時も開いています。お店がOPENしている時間はちょっと遠足がてらビーズ好きなお仲間たちとおやつやランチをもってモンパルレのお店へお越しください。\n \n6～8名かけのテーブルがありますのでそこでお仲間たちと一緒に、お店にあるモンパルレのキットや材料から、また手持ちの材料などを持ち込み色々な材料と組み合わせたモノづくりの時間をここでお楽しみいただけます。\nビーズマットや工具などは貸し出しいたします（無料）し、店内での飲食もご自由に＾＾\n（あたたかいお飲み物やおやつなどはご用意しています）\n またお店に下島がいるときは1H1\,250円（税別）でレッスンも可能ですので持ち込み材料などでオリジナルアクセサリー作りのご相談も承ります＾＾\n \nさいたまのちょっと不便な場所にモンパルレのお店はありますが、遠足がてら是非お店へお越しください。\n \nビーズ好きな方々はきっとお店に来ていただけたらモンパルレってこんなお店なんだ～と喜んでいただけるかな？と思います\n \n \n \n \n■レッスンで作りたいアクセサリーについて■\n 今月の課題デザインのアクセサリーまたは、MON PARUREで購入したお手持ちのキットや、レッスン当日にキットサンプルを見てお選びいただけます。「作り始めたけど、分からないところがある」「どうしても綺麗にできない」などなど・・・・ご希望に合わせてレッスンを受けることができます。 \nお申し込みの際には「今月のレッスン課題」または「KITの〇〇を作りたい」等\n ご希望をお伝えください。予めご連絡をお願いいたします。 \n＊＊＊当レッスンでは入会制をとっておりません。参加できる日時にご予約して、お気軽にご参加ください。\n ＊＊＊初めての方も、中級～上級者の方もご希望に合わせてご受講いただけます。 \n 
URL:https://monparure.com/lesson/707
LOCATION:MONPARURE東浦和本店\, 東浦和4-1-16 2F\, さいたま市緑区\, 埼玉県\, 336-0926\, Japan
ORGANIZER;CN="MON PARURE":MAILTO:lesson@monparure.com
END:VEVENT
BEGIN:VEVENT
DTSTART;TZID=Asia/Tokyo:20171220T090000
DTEND;TZID=Asia/Tokyo:20171220T180000
DTSTAMP:20260422T225318
CREATED:20171121T014943Z
LAST-MODIFIED:20171121T014943Z
UID:709-1513760400-1513792800@monparure.com
SUMMARY:シモジマ１2月在店のお知らせ
DESCRIPTION:シモジマ12月　在店日時間のお知らせです。 \n9：00～18：00 \n＊この日は終日お店にいます。ご来店でプチレッスンをご希望の方はお気軽にお声かけ下さい \n（（一時間　1\,250円+税を頂戴します）） \n  \n・・・・・・・・・・・・・・・・・・・・・・・・・・・・・・・・・・・ \n■2018年レッスンの情報はお待ちください■ \nモンパルレのレッスンはこんなレッスンです。 \nMONPARUREのレッスンでは入会制度とっておりません。「したいことをする」「行けるときに行く」「作りに行ってみる」をテーマにレッスンを行います。\n \n「キットをイベントや展示会で買ったけどずっとお蔵入りになっている」\n「買ったけど作り方がわからなくてそのままになっている」\n「ビーズをやってみたいけど敷居が高いのでは？」\n「お教室はずっと継続で通わなくてはならないの？」\n \nそんなすべてを解消するのがMONPARUREのレッスンです。\n \n ここに集う皆さんはおなじ「モノづくり」が好きなお仲間たち。1人で初めて「えいっ！」とレッスンに入っても\n直ぐにお仲間になっていけます。モノづくりって「仲間」も「楽しいおしゃべりの時間」も作ってくれます。\n \nたった二時間の時間だけど、きっと・・・充実していただけることをお約束します。\n \n \nまた決まったレッスン日以外の日でもお店は何時も開いています。お店がOPENしている時間はちょっと遠足がてらビーズ好きなお仲間たちとおやつやランチをもってモンパルレのお店へお越しください。\n \n6～8名かけのテーブルがありますのでそこでお仲間たちと一緒に、お店にあるモンパルレのキットや材料から、また手持ちの材料などを持ち込み色々な材料と組み合わせたモノづくりの時間をここでお楽しみいただけます。\nビーズマットや工具などは貸し出しいたします（無料）し、店内での飲食もご自由に＾＾\n（あたたかいお飲み物やおやつなどはご用意しています）\n またお店に下島がいるときは1H1\,250円（税別）でレッスンも可能ですので持ち込み材料などでオリジナルアクセサリー作りのご相談も承ります＾＾\n \nさいたまのちょっと不便な場所にモンパルレのお店はありますが、遠足がてら是非お店へお越しください。\n \nビーズ好きな方々はきっとお店に来ていただけたらモンパルレってこんなお店なんだ～と喜んでいただけるかな？と思います\n \n \n \n \n■レッスンで作りたいアクセサリーについて■\n 今月の課題デザインのアクセサリーまたは、MON PARUREで購入したお手持ちのキットや、レッスン当日にキットサンプルを見てお選びいただけます。「作り始めたけど、分からないところがある」「どうしても綺麗にできない」などなど・・・・ご希望に合わせてレッスンを受けることができます。 \nお申し込みの際には「今月のレッスン課題」または「KITの〇〇を作りたい」等\n ご希望をお伝えください。予めご連絡をお願いいたします。 \n＊＊＊当レッスンでは入会制をとっておりません。参加できる日時にご予約して、お気軽にご参加ください。\n ＊＊＊初めての方も、中級～上級者の方もご希望に合わせてご受講いただけます。 \n 
URL:https://monparure.com/lesson/709
LOCATION:MONPARURE東浦和本店\, 東浦和4-1-16 2F\, さいたま市緑区\, 埼玉県\, 336-0926\, Japan
ORGANIZER;CN="MON PARURE":MAILTO:lesson@monparure.com
END:VEVENT
BEGIN:VEVENT
DTSTART;TZID=Asia/Tokyo:20171221T090000
DTEND;TZID=Asia/Tokyo:20171221T180000
DTSTAMP:20260422T225318
CREATED:20171121T015004Z
LAST-MODIFIED:20171121T015004Z
UID:711-1513846800-1513879200@monparure.com
SUMMARY:シモジマ１2月在店のお知らせ
DESCRIPTION:シモジマ12月　在店日時間のお知らせです。 \n9：00～18：00 \n＊この日は終日お店にいます。ご来店でプチレッスンをご希望の方はお気軽にお声かけ下さい \n（（一時間　1\,250円+税を頂戴します）） \n  \n・・・・・・・・・・・・・・・・・・・・・・・・・・・・・・・・・・・ \n■2018年レッスンの情報はお待ちください■ \nモンパルレのレッスンはこんなレッスンです。 \nMONPARUREのレッスンでは入会制度とっておりません。「したいことをする」「行けるときに行く」「作りに行ってみる」をテーマにレッスンを行います。\n \n「キットをイベントや展示会で買ったけどずっとお蔵入りになっている」\n「買ったけど作り方がわからなくてそのままになっている」\n「ビーズをやってみたいけど敷居が高いのでは？」\n「お教室はずっと継続で通わなくてはならないの？」\n \nそんなすべてを解消するのがMONPARUREのレッスンです。\n \n ここに集う皆さんはおなじ「モノづくり」が好きなお仲間たち。1人で初めて「えいっ！」とレッスンに入っても\n直ぐにお仲間になっていけます。モノづくりって「仲間」も「楽しいおしゃべりの時間」も作ってくれます。\n \nたった二時間の時間だけど、きっと・・・充実していただけることをお約束します。\n \n \nまた決まったレッスン日以外の日でもお店は何時も開いています。お店がOPENしている時間はちょっと遠足がてらビーズ好きなお仲間たちとおやつやランチをもってモンパルレのお店へお越しください。\n \n6～8名かけのテーブルがありますのでそこでお仲間たちと一緒に、お店にあるモンパルレのキットや材料から、また手持ちの材料などを持ち込み色々な材料と組み合わせたモノづくりの時間をここでお楽しみいただけます。\nビーズマットや工具などは貸し出しいたします（無料）し、店内での飲食もご自由に＾＾\n（あたたかいお飲み物やおやつなどはご用意しています）\n またお店に下島がいるときは1H1\,250円（税別）でレッスンも可能ですので持ち込み材料などでオリジナルアクセサリー作りのご相談も承ります＾＾\n \nさいたまのちょっと不便な場所にモンパルレのお店はありますが、遠足がてら是非お店へお越しください。\n \nビーズ好きな方々はきっとお店に来ていただけたらモンパルレってこんなお店なんだ～と喜んでいただけるかな？と思います\n \n \n \n \n■レッスンで作りたいアクセサリーについて■\n 今月の課題デザインのアクセサリーまたは、MON PARUREで購入したお手持ちのキットや、レッスン当日にキットサンプルを見てお選びいただけます。「作り始めたけど、分からないところがある」「どうしても綺麗にできない」などなど・・・・ご希望に合わせてレッスンを受けることができます。 \nお申し込みの際には「今月のレッスン課題」または「KITの〇〇を作りたい」等\n ご希望をお伝えください。予めご連絡をお願いいたします。 \n＊＊＊当レッスンでは入会制をとっておりません。参加できる日時にご予約して、お気軽にご参加ください。\n ＊＊＊初めての方も、中級～上級者の方もご希望に合わせてご受講いただけます。 \n 
URL:https://monparure.com/lesson/711
LOCATION:MONPARURE東浦和本店\, 東浦和4-1-16 2F\, さいたま市緑区\, 埼玉県\, 336-0926\, Japan
ORGANIZER;CN="MON PARURE":MAILTO:lesson@monparure.com
END:VEVENT
BEGIN:VEVENT
DTSTART;TZID=Asia/Tokyo:20171222T090000
DTEND;TZID=Asia/Tokyo:20171222T180000
DTSTAMP:20260422T225318
CREATED:20171121T015030Z
LAST-MODIFIED:20171121T015030Z
UID:713-1513933200-1513965600@monparure.com
SUMMARY:シモジマ１2月在店のお知らせ
DESCRIPTION:シモジマ12月　在店日時間のお知らせです。 \n9：00～18：00 \n＊この日は終日お店にいます。ご来店でプチレッスンをご希望の方はお気軽にお声かけ下さい \n（（一時間　1\,250円+税を頂戴します）） \n  \n・・・・・・・・・・・・・・・・・・・・・・・・・・・・・・・・・・・ \n■2018年レッスンの情報はお待ちください■ \nモンパルレのレッスンはこんなレッスンです。 \nMONPARUREのレッスンでは入会制度とっておりません。「したいことをする」「行けるときに行く」「作りに行ってみる」をテーマにレッスンを行います。\n \n「キットをイベントや展示会で買ったけどずっとお蔵入りになっている」\n「買ったけど作り方がわからなくてそのままになっている」\n「ビーズをやってみたいけど敷居が高いのでは？」\n「お教室はずっと継続で通わなくてはならないの？」\n \nそんなすべてを解消するのがMONPARUREのレッスンです。\n \n ここに集う皆さんはおなじ「モノづくり」が好きなお仲間たち。1人で初めて「えいっ！」とレッスンに入っても\n直ぐにお仲間になっていけます。モノづくりって「仲間」も「楽しいおしゃべりの時間」も作ってくれます。\n \nたった二時間の時間だけど、きっと・・・充実していただけることをお約束します。\n \n \nまた決まったレッスン日以外の日でもお店は何時も開いています。お店がOPENしている時間はちょっと遠足がてらビーズ好きなお仲間たちとおやつやランチをもってモンパルレのお店へお越しください。\n \n6～8名かけのテーブルがありますのでそこでお仲間たちと一緒に、お店にあるモンパルレのキットや材料から、また手持ちの材料などを持ち込み色々な材料と組み合わせたモノづくりの時間をここでお楽しみいただけます。\nビーズマットや工具などは貸し出しいたします（無料）し、店内での飲食もご自由に＾＾\n（あたたかいお飲み物やおやつなどはご用意しています）\n またお店に下島がいるときは1H1\,250円（税別）でレッスンも可能ですので持ち込み材料などでオリジナルアクセサリー作りのご相談も承ります＾＾\n \nさいたまのちょっと不便な場所にモンパルレのお店はありますが、遠足がてら是非お店へお越しください。\n \nビーズ好きな方々はきっとお店に来ていただけたらモンパルレってこんなお店なんだ～と喜んでいただけるかな？と思います\n \n \n \n \n■レッスンで作りたいアクセサリーについて■\n 今月の課題デザインのアクセサリーまたは、MON PARUREで購入したお手持ちのキットや、レッスン当日にキットサンプルを見てお選びいただけます。「作り始めたけど、分からないところがある」「どうしても綺麗にできない」などなど・・・・ご希望に合わせてレッスンを受けることができます。 \nお申し込みの際には「今月のレッスン課題」または「KITの〇〇を作りたい」等\n ご希望をお伝えください。予めご連絡をお願いいたします。 \n＊＊＊当レッスンでは入会制をとっておりません。参加できる日時にご予約して、お気軽にご参加ください。\n ＊＊＊初めての方も、中級～上級者の方もご希望に合わせてご受講いただけます。 \n 
URL:https://monparure.com/lesson/713
LOCATION:MONPARURE東浦和本店\, 東浦和4-1-16 2F\, さいたま市緑区\, 埼玉県\, 336-0926\, Japan
ORGANIZER;CN="MON PARURE":MAILTO:lesson@monparure.com
END:VEVENT
BEGIN:VEVENT
DTSTART;TZID=Asia/Tokyo:20171225T090000
DTEND;TZID=Asia/Tokyo:20171225T180000
DTSTAMP:20260422T225318
CREATED:20171121T015111Z
LAST-MODIFIED:20171121T015111Z
UID:715-1514192400-1514224800@monparure.com
SUMMARY:シモジマ１2月在店のお知らせ
DESCRIPTION:シモジマ12月　在店日時間のお知らせです。 \n9：00～18：00 \n＊この日は終日お店にいます。ご来店でプチレッスンをご希望の方はお気軽にお声かけ下さい \n（（一時間　1\,250円+税を頂戴します）） \n  \n・・・・・・・・・・・・・・・・・・・・・・・・・・・・・・・・・・・ \n■2018年レッスンの情報はお待ちください■ \nモンパルレのレッスンはこんなレッスンです。 \nMONPARUREのレッスンでは入会制度とっておりません。「したいことをする」「行けるときに行く」「作りに行ってみる」をテーマにレッスンを行います。\n \n「キットをイベントや展示会で買ったけどずっとお蔵入りになっている」\n「買ったけど作り方がわからなくてそのままになっている」\n「ビーズをやってみたいけど敷居が高いのでは？」\n「お教室はずっと継続で通わなくてはならないの？」\n \nそんなすべてを解消するのがMONPARUREのレッスンです。\n \n ここに集う皆さんはおなじ「モノづくり」が好きなお仲間たち。1人で初めて「えいっ！」とレッスンに入っても\n直ぐにお仲間になっていけます。モノづくりって「仲間」も「楽しいおしゃべりの時間」も作ってくれます。\n \nたった二時間の時間だけど、きっと・・・充実していただけることをお約束します。\n \n \nまた決まったレッスン日以外の日でもお店は何時も開いています。お店がOPENしている時間はちょっと遠足がてらビーズ好きなお仲間たちとおやつやランチをもってモンパルレのお店へお越しください。\n \n6～8名かけのテーブルがありますのでそこでお仲間たちと一緒に、お店にあるモンパルレのキットや材料から、また手持ちの材料などを持ち込み色々な材料と組み合わせたモノづくりの時間をここでお楽しみいただけます。\nビーズマットや工具などは貸し出しいたします（無料）し、店内での飲食もご自由に＾＾\n（あたたかいお飲み物やおやつなどはご用意しています）\n またお店に下島がいるときは1H1\,250円（税別）でレッスンも可能ですので持ち込み材料などでオリジナルアクセサリー作りのご相談も承ります＾＾\n \nさいたまのちょっと不便な場所にモンパルレのお店はありますが、遠足がてら是非お店へお越しください。\n \nビーズ好きな方々はきっとお店に来ていただけたらモンパルレってこんなお店なんだ～と喜んでいただけるかな？と思います\n \n \n \n \n■レッスンで作りたいアクセサリーについて■\n 今月の課題デザインのアクセサリーまたは、MON PARUREで購入したお手持ちのキットや、レッスン当日にキットサンプルを見てお選びいただけます。「作り始めたけど、分からないところがある」「どうしても綺麗にできない」などなど・・・・ご希望に合わせてレッスンを受けることができます。 \nお申し込みの際には「今月のレッスン課題」または「KITの〇〇を作りたい」等\n ご希望をお伝えください。予めご連絡をお願いいたします。 \n＊＊＊当レッスンでは入会制をとっておりません。参加できる日時にご予約して、お気軽にご参加ください。\n ＊＊＊初めての方も、中級～上級者の方もご希望に合わせてご受講いただけます。 \n 
URL:https://monparure.com/lesson/715
LOCATION:MONPARURE東浦和本店\, 東浦和4-1-16 2F\, さいたま市緑区\, 埼玉県\, 336-0926\, Japan
ORGANIZER;CN="MON PARURE":MAILTO:lesson@monparure.com
END:VEVENT
BEGIN:VEVENT
DTSTART;TZID=Asia/Tokyo:20171226T090000
DTEND;TZID=Asia/Tokyo:20171226T180000
DTSTAMP:20260422T225318
CREATED:20171121T015134Z
LAST-MODIFIED:20171121T015134Z
UID:717-1514278800-1514311200@monparure.com
SUMMARY:シモジマ１2月在店のお知らせ
DESCRIPTION:シモジマ12月　在店日時間のお知らせです。 \n9：00～18：00 \n＊この日は終日お店にいます。ご来店でプチレッスンをご希望の方はお気軽にお声かけ下さい \n（（一時間　1\,250円+税を頂戴します）） \n  \n・・・・・・・・・・・・・・・・・・・・・・・・・・・・・・・・・・・ \n■2018年レッスンの情報はお待ちください■ \nモンパルレのレッスンはこんなレッスンです。 \nMONPARUREのレッスンでは入会制度とっておりません。「したいことをする」「行けるときに行く」「作りに行ってみる」をテーマにレッスンを行います。\n \n「キットをイベントや展示会で買ったけどずっとお蔵入りになっている」\n「買ったけど作り方がわからなくてそのままになっている」\n「ビーズをやってみたいけど敷居が高いのでは？」\n「お教室はずっと継続で通わなくてはならないの？」\n \nそんなすべてを解消するのがMONPARUREのレッスンです。\n \n ここに集う皆さんはおなじ「モノづくり」が好きなお仲間たち。1人で初めて「えいっ！」とレッスンに入っても\n直ぐにお仲間になっていけます。モノづくりって「仲間」も「楽しいおしゃべりの時間」も作ってくれます。\n \nたった二時間の時間だけど、きっと・・・充実していただけることをお約束します。\n \n \nまた決まったレッスン日以外の日でもお店は何時も開いています。お店がOPENしている時間はちょっと遠足がてらビーズ好きなお仲間たちとおやつやランチをもってモンパルレのお店へお越しください。\n \n6～8名かけのテーブルがありますのでそこでお仲間たちと一緒に、お店にあるモンパルレのキットや材料から、また手持ちの材料などを持ち込み色々な材料と組み合わせたモノづくりの時間をここでお楽しみいただけます。\nビーズマットや工具などは貸し出しいたします（無料）し、店内での飲食もご自由に＾＾\n（あたたかいお飲み物やおやつなどはご用意しています）\n またお店に下島がいるときは1H1\,250円（税別）でレッスンも可能ですので持ち込み材料などでオリジナルアクセサリー作りのご相談も承ります＾＾\n \nさいたまのちょっと不便な場所にモンパルレのお店はありますが、遠足がてら是非お店へお越しください。\n \nビーズ好きな方々はきっとお店に来ていただけたらモンパルレってこんなお店なんだ～と喜んでいただけるかな？と思います\n \n \n \n \n■レッスンで作りたいアクセサリーについて■\n 今月の課題デザインのアクセサリーまたは、MON PARUREで購入したお手持ちのキットや、レッスン当日にキットサンプルを見てお選びいただけます。「作り始めたけど、分からないところがある」「どうしても綺麗にできない」などなど・・・・ご希望に合わせてレッスンを受けることができます。 \nお申し込みの際には「今月のレッスン課題」または「KITの〇〇を作りたい」等\n ご希望をお伝えください。予めご連絡をお願いいたします。 \n＊＊＊当レッスンでは入会制をとっておりません。参加できる日時にご予約して、お気軽にご参加ください。\n ＊＊＊初めての方も、中級～上級者の方もご希望に合わせてご受講いただけます。 \n 
URL:https://monparure.com/lesson/717
LOCATION:MONPARURE東浦和本店\, 東浦和4-1-16 2F\, さいたま市緑区\, 埼玉県\, 336-0926\, Japan
ORGANIZER;CN="MON PARURE":MAILTO:lesson@monparure.com
END:VEVENT
BEGIN:VEVENT
DTSTART;TZID=Asia/Tokyo:20171227T090000
DTEND;TZID=Asia/Tokyo:20171227T180000
DTSTAMP:20260422T225318
CREATED:20171121T015152Z
LAST-MODIFIED:20171121T015152Z
UID:719-1514365200-1514397600@monparure.com
SUMMARY:シモジマ１2月在店のお知らせ
DESCRIPTION:シモジマ12月　在店日時間のお知らせです。 \n9：00～18：00 \n＊この日は終日お店にいます。ご来店でプチレッスンをご希望の方はお気軽にお声かけ下さい \n（（一時間　1\,250円+税を頂戴します）） \n  \n・・・・・・・・・・・・・・・・・・・・・・・・・・・・・・・・・・・ \n■2018年レッスンの情報はお待ちください■ \nモンパルレのレッスンはこんなレッスンです。 \nMONPARUREのレッスンでは入会制度とっておりません。「したいことをする」「行けるときに行く」「作りに行ってみる」をテーマにレッスンを行います。\n \n「キットをイベントや展示会で買ったけどずっとお蔵入りになっている」\n「買ったけど作り方がわからなくてそのままになっている」\n「ビーズをやってみたいけど敷居が高いのでは？」\n「お教室はずっと継続で通わなくてはならないの？」\n \nそんなすべてを解消するのがMONPARUREのレッスンです。\n \n ここに集う皆さんはおなじ「モノづくり」が好きなお仲間たち。1人で初めて「えいっ！」とレッスンに入っても\n直ぐにお仲間になっていけます。モノづくりって「仲間」も「楽しいおしゃべりの時間」も作ってくれます。\n \nたった二時間の時間だけど、きっと・・・充実していただけることをお約束します。\n \n \nまた決まったレッスン日以外の日でもお店は何時も開いています。お店がOPENしている時間はちょっと遠足がてらビーズ好きなお仲間たちとおやつやランチをもってモンパルレのお店へお越しください。\n \n6～8名かけのテーブルがありますのでそこでお仲間たちと一緒に、お店にあるモンパルレのキットや材料から、また手持ちの材料などを持ち込み色々な材料と組み合わせたモノづくりの時間をここでお楽しみいただけます。\nビーズマットや工具などは貸し出しいたします（無料）し、店内での飲食もご自由に＾＾\n（あたたかいお飲み物やおやつなどはご用意しています）\n またお店に下島がいるときは1H1\,250円（税別）でレッスンも可能ですので持ち込み材料などでオリジナルアクセサリー作りのご相談も承ります＾＾\n \nさいたまのちょっと不便な場所にモンパルレのお店はありますが、遠足がてら是非お店へお越しください。\n \nビーズ好きな方々はきっとお店に来ていただけたらモンパルレってこんなお店なんだ～と喜んでいただけるかな？と思います\n \n \n \n \n■レッスンで作りたいアクセサリーについて■\n 今月の課題デザインのアクセサリーまたは、MON PARUREで購入したお手持ちのキットや、レッスン当日にキットサンプルを見てお選びいただけます。「作り始めたけど、分からないところがある」「どうしても綺麗にできない」などなど・・・・ご希望に合わせてレッスンを受けることができます。 \nお申し込みの際には「今月のレッスン課題」または「KITの〇〇を作りたい」等\n ご希望をお伝えください。予めご連絡をお願いいたします。 \n＊＊＊当レッスンでは入会制をとっておりません。参加できる日時にご予約して、お気軽にご参加ください。\n ＊＊＊初めての方も、中級～上級者の方もご希望に合わせてご受講いただけます。 \n 
URL:https://monparure.com/lesson/719
LOCATION:MONPARURE東浦和本店\, 東浦和4-1-16 2F\, さいたま市緑区\, 埼玉県\, 336-0926\, Japan
ORGANIZER;CN="MON PARURE":MAILTO:lesson@monparure.com
END:VEVENT
BEGIN:VEVENT
DTSTART;TZID=Asia/Tokyo:20171228T090000
DTEND;TZID=Asia/Tokyo:20171228T180000
DTSTAMP:20260422T225318
CREATED:20171121T015215Z
LAST-MODIFIED:20171121T015215Z
UID:721-1514451600-1514484000@monparure.com
SUMMARY:シモジマ１2月在店のお知らせ
DESCRIPTION:シモジマ12月　在店日時間のお知らせです。 \n9：00～18：00 \n＊この日は終日お店にいます。ご来店でプチレッスンをご希望の方はお気軽にお声かけ下さい \n（（一時間　1\,250円+税を頂戴します）） \n  \n・・・・・・・・・・・・・・・・・・・・・・・・・・・・・・・・・・・ \n■2018年レッスンの情報はお待ちください■ \nモンパルレのレッスンはこんなレッスンです。 \nMONPARUREのレッスンでは入会制度とっておりません。「したいことをする」「行けるときに行く」「作りに行ってみる」をテーマにレッスンを行います。\n \n「キットをイベントや展示会で買ったけどずっとお蔵入りになっている」\n「買ったけど作り方がわからなくてそのままになっている」\n「ビーズをやってみたいけど敷居が高いのでは？」\n「お教室はずっと継続で通わなくてはならないの？」\n \nそんなすべてを解消するのがMONPARUREのレッスンです。\n \n ここに集う皆さんはおなじ「モノづくり」が好きなお仲間たち。1人で初めて「えいっ！」とレッスンに入っても\n直ぐにお仲間になっていけます。モノづくりって「仲間」も「楽しいおしゃべりの時間」も作ってくれます。\n \nたった二時間の時間だけど、きっと・・・充実していただけることをお約束します。\n \n \nまた決まったレッスン日以外の日でもお店は何時も開いています。お店がOPENしている時間はちょっと遠足がてらビーズ好きなお仲間たちとおやつやランチをもってモンパルレのお店へお越しください。\n \n6～8名かけのテーブルがありますのでそこでお仲間たちと一緒に、お店にあるモンパルレのキットや材料から、また手持ちの材料などを持ち込み色々な材料と組み合わせたモノづくりの時間をここでお楽しみいただけます。\nビーズマットや工具などは貸し出しいたします（無料）し、店内での飲食もご自由に＾＾\n（あたたかいお飲み物やおやつなどはご用意しています）\n またお店に下島がいるときは1H1\,250円（税別）でレッスンも可能ですので持ち込み材料などでオリジナルアクセサリー作りのご相談も承ります＾＾\n \nさいたまのちょっと不便な場所にモンパルレのお店はありますが、遠足がてら是非お店へお越しください。\n \nビーズ好きな方々はきっとお店に来ていただけたらモンパルレってこんなお店なんだ～と喜んでいただけるかな？と思います\n \n \n \n \n■レッスンで作りたいアクセサリーについて■\n 今月の課題デザインのアクセサリーまたは、MON PARUREで購入したお手持ちのキットや、レッスン当日にキットサンプルを見てお選びいただけます。「作り始めたけど、分からないところがある」「どうしても綺麗にできない」などなど・・・・ご希望に合わせてレッスンを受けることができます。 \nお申し込みの際には「今月のレッスン課題」または「KITの〇〇を作りたい」等\n ご希望をお伝えください。予めご連絡をお願いいたします。 \n＊＊＊当レッスンでは入会制をとっておりません。参加できる日時にご予約して、お気軽にご参加ください。\n ＊＊＊初めての方も、中級～上級者の方もご希望に合わせてご受講いただけます。 \n 
URL:https://monparure.com/lesson/721
LOCATION:MONPARURE東浦和本店\, 東浦和4-1-16 2F\, さいたま市緑区\, 埼玉県\, 336-0926\, Japan
ORGANIZER;CN="MON PARURE":MAILTO:lesson@monparure.com
END:VEVENT
END:VCALENDAR