BEGIN:VCALENDAR
VERSION:2.0
PRODID:-//MON PARURE - ECPv6.3.5//NONSGML v1.0//EN
CALSCALE:GREGORIAN
METHOD:PUBLISH
X-ORIGINAL-URL:https://monparure.com
X-WR-CALDESC:MON PARURE のイベント
REFRESH-INTERVAL;VALUE=DURATION:PT1H
X-Robots-Tag:noindex
X-PUBLISHED-TTL:PT1H
BEGIN:VTIMEZONE
TZID:Asia/Tokyo
BEGIN:STANDARD
TZOFFSETFROM:+0900
TZOFFSETTO:+0900
TZNAME:JST
DTSTART:20170101T000000
END:STANDARD
END:VTIMEZONE
BEGIN:VEVENT
DTSTART;TZID=Asia/Tokyo:20170907T110000
DTEND;TZID=Asia/Tokyo:20170907T133000
DTSTAMP:20260422T182313
CREATED:20170831T075005Z
LAST-MODIFIED:20170831T075033Z
UID:612-1504782000-1504791000@monparure.com
SUMMARY:9月　レッスンのお知らせ
DESCRIPTION:ＭＯＮＰＡＲＵＲＥではデザイナー下島が \nお店に在籍している日程であればこの時間であればお店で \nレッスンを随時行います＾＾ \nこの機会にＭＯＮＰＡＲＵＲＥのお店へ遊びにいらっしゃいませんか？ \nお店へお越しの方でレッスンご受講でキットをお買い求めいただける方は \n常に10％の割引価格でご案内しています。 \nまた購入価格の5％のクーポンも発行。次回のお買い物にお使いいただけます。 \nこの機会にお店へ是非遊びにいらっしゃりながら \nレッスンにお越しください。 \n時々。。。マンツーマンで行うこともあります♥ \n  \n◆時間：11：00～13：30（軽食付き） \n◆参加費用（レッスンフィー　2\,700円（税込み＋材料費別途）） \n  \n 
URL:https://monparure.com/lesson/612
LOCATION:MONPARURE東浦和本店\, 東浦和4-1-16 2F\, さいたま市緑区\, 埼玉県\, 336-0926\, Japan
ORGANIZER;CN="MON PARURE":MAILTO:lesson@monparure.com
END:VEVENT
BEGIN:VEVENT
DTSTART;TZID=Asia/Tokyo:20170908T110000
DTEND;TZID=Asia/Tokyo:20170908T133000
DTSTAMP:20260422T182313
CREATED:20170831T075107Z
LAST-MODIFIED:20170831T075107Z
UID:615-1504868400-1504877400@monparure.com
SUMMARY:9月　レッスンのお知らせ
DESCRIPTION:ＭＯＮＰＡＲＵＲＥではデザイナー下島が \nお店に在籍している日程であればこの時間であればお店で \nレッスンを随時行います＾＾ \nこの機会にＭＯＮＰＡＲＵＲＥのお店へ遊びにいらっしゃいませんか？ \nお店へお越しの方でレッスンご受講でキットをお買い求めいただける方は \n常に10％の割引価格でご案内しています。 \nまた購入価格の5％のクーポンも発行。次回のお買い物にお使いいただけます。 \nこの機会にお店へ是非遊びにいらっしゃりながら \nレッスンにお越しください。 \n時々。。。マンツーマンで行うこともあります♥ \n  \n◆時間：11：00～13：30（軽食付き） \n◆参加費用（レッスンフィー　2\,700円（税込み＋材料費別途）） \n  \n 
URL:https://monparure.com/lesson/615
LOCATION:MONPARURE東浦和本店\, 東浦和4-1-16 2F\, さいたま市緑区\, 埼玉県\, 336-0926\, Japan
ORGANIZER;CN="MON PARURE":MAILTO:lesson@monparure.com
END:VEVENT
BEGIN:VEVENT
DTSTART;TZID=Asia/Tokyo:20170920T110000
DTEND;TZID=Asia/Tokyo:20170920T133000
DTSTAMP:20260422T182313
CREATED:20170831T075127Z
LAST-MODIFIED:20170831T075127Z
UID:617-1505905200-1505914200@monparure.com
SUMMARY:9月　レッスンのお知らせ
DESCRIPTION:ＭＯＮＰＡＲＵＲＥではデザイナー下島が \nお店に在籍している日程であればこの時間であればお店で \nレッスンを随時行います＾＾ \nこの機会にＭＯＮＰＡＲＵＲＥのお店へ遊びにいらっしゃいませんか？ \nお店へお越しの方でレッスンご受講でキットをお買い求めいただける方は \n常に10％の割引価格でご案内しています。 \nまた購入価格の5％のクーポンも発行。次回のお買い物にお使いいただけます。 \nこの機会にお店へ是非遊びにいらっしゃりながら \nレッスンにお越しください。 \n時々。。。マンツーマンで行うこともあります♥ \n  \n◆時間：11：00～13：30（軽食付き） \n◆参加費用（レッスンフィー　2\,700円（税込み＋材料費別途）） \n  \n 
URL:https://monparure.com/lesson/617
LOCATION:MONPARURE東浦和本店\, 東浦和4-1-16 2F\, さいたま市緑区\, 埼玉県\, 336-0926\, Japan
ORGANIZER;CN="MON PARURE":MAILTO:lesson@monparure.com
END:VEVENT
BEGIN:VEVENT
DTSTART;TZID=Asia/Tokyo:20170921T110000
DTEND;TZID=Asia/Tokyo:20170921T140000
DTSTAMP:20260422T182313
CREATED:20170831T074239Z
LAST-MODIFIED:20170831T074320Z
UID:607-1505991600-1506002400@monparure.com
SUMMARY:貴和製作所～キラリト銀座～レッスンのお知らせ
DESCRIPTION:今年の夏は梅雨と夏が逆転？してしまったようなお天気が続きましたね。 \nそんな夏もそろそろ秋へ突入の時期。 \n学びの秋。自分のために時間を作って「すてきなものをツクル」癒しの時間を \n共に過ごしませんか？ \n  \n９月より月１回　キラリト銀座　貴和製作所にてワークショップを開催します。 \n初めてさん・作ったことがあるけどコツを知りたい。可愛いもの大好き！ \nそんな皆さん。是非集まってお茶をいただきながらモノづくりを楽しんでみませんか？ \n  \n詳細はこちらよりご覧いただきお申し込みも店頭にてお願いいたします。 \n  \n 
URL:https://monparure.com/lesson/607
LOCATION:貴和製作所　キラリト銀座\, 銀座1丁目8−19\, 中央区\, 東京都\, 1040061\, Japan
END:VEVENT
BEGIN:VEVENT
DTSTART;TZID=Asia/Tokyo:20170924T100000
DTEND;TZID=Asia/Tokyo:20170924T153000
DTSTAMP:20260422T182313
CREATED:20170831T073216Z
LAST-MODIFIED:20170831T073216Z
UID:603-1506247200-1506267000@monparure.com
SUMMARY:9月レッスンのお知らせ
DESCRIPTION:今年の夏は梅雨と夏が逆転？してしまったようなお天気が続きましたね。 \nそんな夏もそろそろ秋へ突入の時期。どこへ出かけても \nハロウィンのものが目に入り季節の到来が \n早々と記憶されていきます。ＭＯＮＰＡＲＵＲＥでも \n今年はちょっぴり早く、ハロウィンにちなんだテーマで \nレッスン課題を企画中。 \n画像はデザインがUPでき次第お知らせいたします \n  \n午前の部　10：00～12：00 \n午後の部　13：30～15：30 \n参加費用（レッスンフィー　2\,700円（税込み＋材料費別途）） \n  \n 
URL:https://monparure.com/lesson/603
LOCATION:MONPARURE東浦和本店\, 東浦和4-1-16 2F\, さいたま市緑区\, 埼玉県\, 336-0926\, Japan
ORGANIZER;CN="MON PARURE":MAILTO:lesson@monparure.com
END:VEVENT
BEGIN:VEVENT
DTSTART;TZID=Asia/Tokyo:20170925T100000
DTEND;TZID=Asia/Tokyo:20170925T153000
DTSTAMP:20260422T182313
CREATED:20170831T073241Z
LAST-MODIFIED:20170831T073241Z
UID:605-1506333600-1506353400@monparure.com
SUMMARY:9月レッスンのお知らせ
DESCRIPTION:今年の夏は梅雨と夏が逆転？してしまったようなお天気が続きましたね。 \nそんな夏もそろそろ秋へ突入の時期。どこへ出かけても \nハロウィンのものが目に入り季節の到来が \n早々と記憶されていきます。ＭＯＮＰＡＲＵＲＥでも \n今年はちょっぴり早く、ハロウィンにちなんだテーマで \nレッスン課題を企画中。 \n画像はデザインがUPでき次第お知らせいたします \n  \n午前の部　10：00～12：00 \n午後の部　13：30～15：30 \n参加費用（レッスンフィー　2\,700円（税込み＋材料費別途）） \n  \n 
URL:https://monparure.com/lesson/605
LOCATION:MONPARURE東浦和本店\, 東浦和4-1-16 2F\, さいたま市緑区\, 埼玉県\, 336-0926\, Japan
ORGANIZER;CN="MON PARURE":MAILTO:lesson@monparure.com
END:VEVENT
BEGIN:VEVENT
DTSTART;TZID=Asia/Tokyo:20170929T110000
DTEND;TZID=Asia/Tokyo:20170929T133000
DTSTAMP:20260422T182313
CREATED:20170831T075148Z
LAST-MODIFIED:20170831T075148Z
UID:619-1506682800-1506691800@monparure.com
SUMMARY:9月　レッスンのお知らせ
DESCRIPTION:ＭＯＮＰＡＲＵＲＥではデザイナー下島が \nお店に在籍している日程であればこの時間であればお店で \nレッスンを随時行います＾＾ \nこの機会にＭＯＮＰＡＲＵＲＥのお店へ遊びにいらっしゃいませんか？ \nお店へお越しの方でレッスンご受講でキットをお買い求めいただける方は \n常に10％の割引価格でご案内しています。 \nまた購入価格の5％のクーポンも発行。次回のお買い物にお使いいただけます。 \nこの機会にお店へ是非遊びにいらっしゃりながら \nレッスンにお越しください。 \n時々。。。マンツーマンで行うこともあります♥ \n  \n◆時間：11：00～13：30（軽食付き） \n◆参加費用（レッスンフィー　2\,700円（税込み＋材料費別途）） \n  \n 
URL:https://monparure.com/lesson/619
LOCATION:MONPARURE東浦和本店\, 東浦和4-1-16 2F\, さいたま市緑区\, 埼玉県\, 336-0926\, Japan
ORGANIZER;CN="MON PARURE":MAILTO:lesson@monparure.com
END:VEVENT
BEGIN:VEVENT
DTSTART;TZID=Asia/Tokyo:20170930T110000
DTEND;TZID=Asia/Tokyo:20170930T133000
DTSTAMP:20260422T182313
CREATED:20170831T075205Z
LAST-MODIFIED:20170831T075205Z
UID:621-1506769200-1506778200@monparure.com
SUMMARY:9月　レッスンのお知らせ
DESCRIPTION:ＭＯＮＰＡＲＵＲＥではデザイナー下島が \nお店に在籍している日程であればこの時間であればお店で \nレッスンを随時行います＾＾ \nこの機会にＭＯＮＰＡＲＵＲＥのお店へ遊びにいらっしゃいませんか？ \nお店へお越しの方でレッスンご受講でキットをお買い求めいただける方は \n常に10％の割引価格でご案内しています。 \nまた購入価格の5％のクーポンも発行。次回のお買い物にお使いいただけます。 \nこの機会にお店へ是非遊びにいらっしゃりながら \nレッスンにお越しください。 \n時々。。。マンツーマンで行うこともあります♥ \n  \n◆時間：11：00～13：30（軽食付き） \n◆参加費用（レッスンフィー　2\,700円（税込み＋材料費別途）） \n  \n 
URL:https://monparure.com/lesson/621
LOCATION:MONPARURE東浦和本店\, 東浦和4-1-16 2F\, さいたま市緑区\, 埼玉県\, 336-0926\, Japan
ORGANIZER;CN="MON PARURE":MAILTO:lesson@monparure.com
END:VEVENT
END:VCALENDAR