BEGIN:VCALENDAR
VERSION:2.0
PRODID:-//MON PARURE - ECPv6.3.5//NONSGML v1.0//EN
CALSCALE:GREGORIAN
METHOD:PUBLISH
X-ORIGINAL-URL:https://monparure.com
X-WR-CALDESC:MON PARURE のイベント
REFRESH-INTERVAL;VALUE=DURATION:PT1H
X-Robots-Tag:noindex
X-PUBLISHED-TTL:PT1H
BEGIN:VTIMEZONE
TZID:Asia/Tokyo
BEGIN:STANDARD
TZOFFSETFROM:+0900
TZOFFSETTO:+0900
TZNAME:JST
DTSTART:20170101T000000
END:STANDARD
END:VTIMEZONE
BEGIN:VEVENT
DTSTART;TZID=Asia/Tokyo:20170810T110000
DTEND;TZID=Asia/Tokyo:20170810T133000
DTSTAMP:20260422T165205
CREATED:20170802T071842Z
LAST-MODIFIED:20170802T071842Z
UID:570-1502362800-1502371800@monparure.com
SUMMARY:8月ワイヤーLessonのご案内
DESCRIPTION:＊＊今月の課題＊＊\n My First Artistic Wire「Styling　Booｋ」7月14日に発売されました \nこの冊子より「アルファベットモチーフ」のネックレスを作りましょう \nどのアルファベットをカタチにするか決めてきてくださいね＾＾ \n　 \n********************************** \n■時間■　11：00～13：30（軽食付き） \n各回６名 \n■費用■\n 受講料　5\,500円（材料費込：税別） \n  \n■レッスンで作りたいアクセサリーについて■\n 今月の課題デザインのアクセサリーまたは、MON PARUREで購入したお手持ちのキットや、レッスン当日にキットサンプルを見てお選びいただけます。「作り始めたけど、分からないところがある」「どうしても綺麗にできない」などなど・・・・ご希望に合わせてレッスンを受けることができます。 \nお申し込みの際には「今月のレッスン課題」または「KITの〇〇を作りたい」等\n ご希望をお伝えください。予めご連絡をお願いいたします。 \n＊＊＊当レッスンでは入会制をとっておりません。参加できる日時にご予約して、お気軽にご参加ください。\n ＊＊＊初めての方も、中級～上級者の方もご希望に合わせてご受講いただけます。
URL:https://monparure.com/lesson/570
LOCATION:MONPARURE東浦和本店\, 東浦和4-1-16 2F\, さいたま市緑区\, 埼玉県\, 336-0926\, Japan
ORGANIZER;CN="MON PARURE":MAILTO:lesson@monparure.com
END:VEVENT
BEGIN:VEVENT
DTSTART;TZID=Asia/Tokyo:20170811T110000
DTEND;TZID=Asia/Tokyo:20170811T133000
DTSTAMP:20260422T165205
CREATED:20170802T071935Z
LAST-MODIFIED:20170802T071935Z
UID:573-1502449200-1502458200@monparure.com
SUMMARY:8月ワイヤーLessonのご案内
DESCRIPTION:＊＊今月の課題＊＊\n My First Artistic Wire「Styling　Booｋ」7月14日に発売されました \nこの冊子より「アルファベットモチーフ」のネックレスを作りましょう \nどのアルファベットをカタチにするか決めてきてくださいね＾＾ \n　 \n********************************** \n■時間■　11：00～13：30（軽食付き） \n各回６名 \n■費用■\n 受講料　5\,500円（材料費込：税別） \n  \n■レッスンで作りたいアクセサリーについて■\n 今月の課題デザインのアクセサリーまたは、MON PARUREで購入したお手持ちのキットや、レッスン当日にキットサンプルを見てお選びいただけます。「作り始めたけど、分からないところがある」「どうしても綺麗にできない」などなど・・・・ご希望に合わせてレッスンを受けることができます。 \nお申し込みの際には「今月のレッスン課題」または「KITの〇〇を作りたい」等\n ご希望をお伝えください。予めご連絡をお願いいたします。 \n＊＊＊当レッスンでは入会制をとっておりません。参加できる日時にご予約して、お気軽にご参加ください。\n ＊＊＊初めての方も、中級～上級者の方もご希望に合わせてご受講いただけます。
URL:https://monparure.com/lesson/573
LOCATION:MONPARURE東浦和本店\, 東浦和4-1-16 2F\, さいたま市緑区\, 埼玉県\, 336-0926\, Japan
ORGANIZER;CN="MON PARURE":MAILTO:lesson@monparure.com
END:VEVENT
BEGIN:VEVENT
DTSTART;TZID=Asia/Tokyo:20170812T110000
DTEND;TZID=Asia/Tokyo:20170812T133000
DTSTAMP:20260422T165205
CREATED:20170802T072115Z
LAST-MODIFIED:20170802T072115Z
UID:575-1502535600-1502544600@monparure.com
SUMMARY:8月ワイヤーLessonのご案内
DESCRIPTION:＊＊今月の課題＊＊\n My First Artistic Wire「Styling　Booｋ」7月14日に発売されました \nこの冊子より「アルファベットモチーフ」のネックレスを作りましょう \nどのアルファベットをカタチにするか決めてきてくださいね＾＾ \n　 \n********************************** \n■時間■　11：00～13：30（軽食付き） \n各回６名 \n■費用■\n 受講料　5\,500円（材料費込：税別） \n  \n■レッスンで作りたいアクセサリーについて■\n 今月の課題デザインのアクセサリーまたは、MON PARUREで購入したお手持ちのキットや、レッスン当日にキットサンプルを見てお選びいただけます。「作り始めたけど、分からないところがある」「どうしても綺麗にできない」などなど・・・・ご希望に合わせてレッスンを受けることができます。 \nお申し込みの際には「今月のレッスン課題」または「KITの〇〇を作りたい」等\n ご希望をお伝えください。予めご連絡をお願いいたします。 \n＊＊＊当レッスンでは入会制をとっておりません。参加できる日時にご予約して、お気軽にご参加ください。\n ＊＊＊初めての方も、中級～上級者の方もご希望に合わせてご受講いただけます。
URL:https://monparure.com/lesson/575
LOCATION:MONPARURE東浦和本店\, 東浦和4-1-16 2F\, さいたま市緑区\, 埼玉県\, 336-0926\, Japan
ORGANIZER;CN="MON PARURE":MAILTO:lesson@monparure.com
END:VEVENT
BEGIN:VEVENT
DTSTART;TZID=Asia/Tokyo:20170814T110000
DTEND;TZID=Asia/Tokyo:20170814T133000
DTSTAMP:20260422T165205
CREATED:20170802T072141Z
LAST-MODIFIED:20170802T072141Z
UID:577-1502708400-1502717400@monparure.com
SUMMARY:8月ワイヤーLessonのご案内
DESCRIPTION:＊＊今月の課題＊＊\n My First Artistic Wire「Styling　Booｋ」7月14日に発売されました \nこの冊子より「アルファベットモチーフ」のネックレスを作りましょう \nどのアルファベットをカタチにするか決めてきてくださいね＾＾ \n　 \n********************************** \n■時間■　11：00～13：30（軽食付き） \n各回６名 \n■費用■\n 受講料　5\,500円（材料費込：税別） \n  \n■レッスンで作りたいアクセサリーについて■\n 今月の課題デザインのアクセサリーまたは、MON PARUREで購入したお手持ちのキットや、レッスン当日にキットサンプルを見てお選びいただけます。「作り始めたけど、分からないところがある」「どうしても綺麗にできない」などなど・・・・ご希望に合わせてレッスンを受けることができます。 \nお申し込みの際には「今月のレッスン課題」または「KITの〇〇を作りたい」等\n ご希望をお伝えください。予めご連絡をお願いいたします。 \n＊＊＊当レッスンでは入会制をとっておりません。参加できる日時にご予約して、お気軽にご参加ください。\n ＊＊＊初めての方も、中級～上級者の方もご希望に合わせてご受講いただけます。
URL:https://monparure.com/lesson/577
LOCATION:MONPARURE東浦和本店\, 東浦和4-1-16 2F\, さいたま市緑区\, 埼玉県\, 336-0926\, Japan
ORGANIZER;CN="MON PARURE":MAILTO:lesson@monparure.com
END:VEVENT
BEGIN:VEVENT
DTSTART;TZID=Asia/Tokyo:20170815T110000
DTEND;TZID=Asia/Tokyo:20170815T133000
DTSTAMP:20260422T165205
CREATED:20170802T072209Z
LAST-MODIFIED:20170802T072209Z
UID:579-1502794800-1502803800@monparure.com
SUMMARY:8月ワイヤーLessonのご案内
DESCRIPTION:＊＊今月の課題＊＊\n My First Artistic Wire「Styling　Booｋ」7月14日に発売されました \nこの冊子より「アルファベットモチーフ」のネックレスを作りましょう \nどのアルファベットをカタチにするか決めてきてくださいね＾＾ \n　 \n********************************** \n■時間■　11：00～13：30（軽食付き） \n各回６名 \n■費用■\n 受講料　5\,500円（材料費込：税別） \n  \n■レッスンで作りたいアクセサリーについて■\n 今月の課題デザインのアクセサリーまたは、MON PARUREで購入したお手持ちのキットや、レッスン当日にキットサンプルを見てお選びいただけます。「作り始めたけど、分からないところがある」「どうしても綺麗にできない」などなど・・・・ご希望に合わせてレッスンを受けることができます。 \nお申し込みの際には「今月のレッスン課題」または「KITの〇〇を作りたい」等\n ご希望をお伝えください。予めご連絡をお願いいたします。 \n＊＊＊当レッスンでは入会制をとっておりません。参加できる日時にご予約して、お気軽にご参加ください。\n ＊＊＊初めての方も、中級～上級者の方もご希望に合わせてご受講いただけます。
URL:https://monparure.com/lesson/579
LOCATION:MONPARURE東浦和本店\, 東浦和4-1-16 2F\, さいたま市緑区\, 埼玉県\, 336-0926\, Japan
ORGANIZER;CN="MON PARURE":MAILTO:lesson@monparure.com
END:VEVENT
BEGIN:VEVENT
DTSTART;TZID=Asia/Tokyo:20170816T110000
DTEND;TZID=Asia/Tokyo:20170816T133000
DTSTAMP:20260422T165205
CREATED:20170802T072230Z
LAST-MODIFIED:20170802T072230Z
UID:581-1502881200-1502890200@monparure.com
SUMMARY:8月ワイヤーLessonのご案内
DESCRIPTION:＊＊今月の課題＊＊\n My First Artistic Wire「Styling　Booｋ」7月14日に発売されました \nこの冊子より「アルファベットモチーフ」のネックレスを作りましょう \nどのアルファベットをカタチにするか決めてきてくださいね＾＾ \n　 \n********************************** \n■時間■　11：00～13：30（軽食付き） \n各回６名 \n■費用■\n 受講料　5\,500円（材料費込：税別） \n  \n■レッスンで作りたいアクセサリーについて■\n 今月の課題デザインのアクセサリーまたは、MON PARUREで購入したお手持ちのキットや、レッスン当日にキットサンプルを見てお選びいただけます。「作り始めたけど、分からないところがある」「どうしても綺麗にできない」などなど・・・・ご希望に合わせてレッスンを受けることができます。 \nお申し込みの際には「今月のレッスン課題」または「KITの〇〇を作りたい」等\n ご希望をお伝えください。予めご連絡をお願いいたします。 \n＊＊＊当レッスンでは入会制をとっておりません。参加できる日時にご予約して、お気軽にご参加ください。\n ＊＊＊初めての方も、中級～上級者の方もご希望に合わせてご受講いただけます。
URL:https://monparure.com/lesson/581
LOCATION:MONPARURE東浦和本店\, 東浦和4-1-16 2F\, さいたま市緑区\, 埼玉県\, 336-0926\, Japan
ORGANIZER;CN="MON PARURE":MAILTO:lesson@monparure.com
END:VEVENT
BEGIN:VEVENT
DTSTART;TZID=Asia/Tokyo:20170817T110000
DTEND;TZID=Asia/Tokyo:20170817T133000
DTSTAMP:20260422T165205
CREATED:20170802T072601Z
LAST-MODIFIED:20170802T072601Z
UID:585-1502967600-1502976600@monparure.com
SUMMARY:8月ワイヤーLessonのご案内
DESCRIPTION:＊＊今月の課題＊＊\n My First Artistic Wire「Styling　Booｋ」7月14日に発売されました \nこの冊子より「アルファベットモチーフ」のネックレスを作りましょう \nどのアルファベットをカタチにするか決めてきてくださいね＾＾ \n　 \n********************************** \n■時間■　11：00～13：30（軽食付き） \n各回６名 \n■費用■\n 受講料　5\,500円（材料費込：税別） \n  \n■レッスンで作りたいアクセサリーについて■\n 今月の課題デザインのアクセサリーまたは、MON PARUREで購入したお手持ちのキットや、レッスン当日にキットサンプルを見てお選びいただけます。「作り始めたけど、分からないところがある」「どうしても綺麗にできない」などなど・・・・ご希望に合わせてレッスンを受けることができます。 \nお申し込みの際には「今月のレッスン課題」または「KITの〇〇を作りたい」等\n ご希望をお伝えください。予めご連絡をお願いいたします。 \n＊＊＊当レッスンでは入会制をとっておりません。参加できる日時にご予約して、お気軽にご参加ください。\n ＊＊＊初めての方も、中級～上級者の方もご希望に合わせてご受講いただけます。
URL:https://monparure.com/lesson/585
LOCATION:MONPARURE東浦和本店\, 東浦和4-1-16 2F\, さいたま市緑区\, 埼玉県\, 336-0926\, Japan
ORGANIZER;CN="MON PARURE":MAILTO:lesson@monparure.com
END:VEVENT
BEGIN:VEVENT
DTSTART;TZID=Asia/Tokyo:20170819T110000
DTEND;TZID=Asia/Tokyo:20170819T133000
DTSTAMP:20260422T165205
CREATED:20170802T072350Z
LAST-MODIFIED:20170802T072539Z
UID:583-1503140400-1503149400@monparure.com
SUMMARY:8月ワイヤーLessonのご案内
DESCRIPTION:＊＊今月の課題＊＊\n My First Artistic Wire「Styling　Booｋ」7月14日に発売されました \nこの冊子より「アルファベットモチーフ」のネックレスを作りましょう \nどのアルファベットをカタチにするか決めてきてくださいね＾＾ \n　 \n********************************** \n■時間■　11：00～13：30（軽食付き） \n各回６名 \n■費用■\n 受講料　5\,500円（材料費込：税別） \n  \n■レッスンで作りたいアクセサリーについて■\n 今月の課題デザインのアクセサリーまたは、MON PARUREで購入したお手持ちのキットや、レッスン当日にキットサンプルを見てお選びいただけます。「作り始めたけど、分からないところがある」「どうしても綺麗にできない」などなど・・・・ご希望に合わせてレッスンを受けることができます。 \nお申し込みの際には「今月のレッスン課題」または「KITの〇〇を作りたい」等\n ご希望をお伝えください。予めご連絡をお願いいたします。 \n＊＊＊当レッスンでは入会制をとっておりません。参加できる日時にご予約して、お気軽にご参加ください。\n ＊＊＊初めての方も、中級～上級者の方もご希望に合わせてご受講いただけます。
URL:https://monparure.com/lesson/583
LOCATION:MONPARURE東浦和本店\, 東浦和4-1-16 2F\, さいたま市緑区\, 埼玉県\, 336-0926\, Japan
ORGANIZER;CN="MON PARURE":MAILTO:lesson@monparure.com
END:VEVENT
BEGIN:VEVENT
DTSTART;TZID=Asia/Tokyo:20170820T100000
DTEND;TZID=Asia/Tokyo:20170820T150000
DTSTAMP:20260422T165205
CREATED:20170719T012349Z
LAST-MODIFIED:20170719T013021Z
UID:543-1503223200-1503241200@monparure.com
SUMMARY:8月フリーレッスンのおしらせとテーマ
DESCRIPTION:暑い夏ですが素敵なものを作って身に着けて・・・♥ \n暑いからとファッションやおしゃれを怠らないようにしてほしいデス（時分の事を棚に上げて・笑 \nさて。MONPARUREの8月にお伝えするレッスンテーマは「クロッシェでボールを編む」です \nラメのレース糸を使ってキラキラのチェコを使ってペンダントトップを作ります。 \n時間内に仕上げたいので、ピンワークはすべて終わらせて準備をしておきます \nまた「クロッシェボールならすぐにできる！」という方には少しだけ難解な・＾＾； \nクロッシェボールをお伝えしたいなと思います。 \n  \n画像はデザインがUPでき次第お知らせいたします \n  \n午前の部　10：00～12：00 \n午後の部　13：30～15：30 \n参加費用（レッスンフィー・材料費込　5\,500円（税別）） \n  \n 
URL:https://monparure.com/lesson/543
LOCATION:MONPARURE東浦和本店\, 東浦和4-1-16 2F\, さいたま市緑区\, 埼玉県\, 336-0926\, Japan
ORGANIZER;CN="MON PARURE":MAILTO:lesson@monparure.com
END:VEVENT
BEGIN:VEVENT
DTSTART;TZID=Asia/Tokyo:20170821T100000
DTEND;TZID=Asia/Tokyo:20170821T153000
DTSTAMP:20260422T165205
CREATED:20170719T012621Z
LAST-MODIFIED:20170719T013004Z
UID:549-1503309600-1503329400@monparure.com
SUMMARY:8月フリーレッスンのおしらせとテーマ
DESCRIPTION:暑い夏ですが素敵なものを作って身に着けて・・・♥ \n暑いからとファッションやおしゃれを怠らないようにしてほしいデス（時分の事を棚に上げて・笑 \nさて。MONPARUREの8月にお伝えするレッスンテーマは「クロッシェでボールを編む」です \nラメのレース糸を使ってキラキラのチェコを使ってペンダントトップを作ります。 \n時間内に仕上げたいので、ピンワークはすべて終わらせて準備をしておきます \nまた「クロッシェボールならすぐにできる！」という方には少しだけ難解な・＾＾； \nクロッシェボールをお伝えしたいなと思います。 \n  \n画像はデザインがUPでき次第お知らせいたします \n  \n午前の部　10：00～12：00 \n午後の部　13：30～15：30 \n参加費用（レッスンフィー・材料費込　5\,500円（税別）） \n  \n 
URL:https://monparure.com/lesson/549
LOCATION:MONPARURE東浦和本店\, 東浦和4-1-16 2F\, さいたま市緑区\, 埼玉県\, 336-0926\, Japan
ORGANIZER;CN="MON PARURE":MAILTO:lesson@monparure.com
END:VEVENT
BEGIN:VEVENT
DTSTART;TZID=Asia/Tokyo:20170827T100000
DTEND;TZID=Asia/Tokyo:20170827T153000
DTSTAMP:20260422T165205
CREATED:20170719T015414Z
LAST-MODIFIED:20170719T015414Z
UID:558-1503828000-1503847800@monparure.com
SUMMARY:8月名古屋レッスン
DESCRIPTION:暑い夏ですが素敵なものを作って身に着けて・・・♥ \n暑いからとファッションやおしゃれを怠らないようにしてほしいデス（時分の事を棚に上げて・笑 \nさて。MONPARUREのお久しぶりな名古屋レッスン8月にお伝えするレッスンテーマは \nフラワーブローチとワイヤーで作るアルファベットモチーフネックレス \n  \n■午前の部はフラワーブローチ　　＜＜10：00～12：00＞＞ \n　　 \n  \n        お好きな色を選んで作る刺繍のブローチです。 \n　　　大きさも大中ありますがお持ち帰りもできます。 \n　　　WEBでは販売しない（中央の刺繍部分が説明できないのです） \n　　　ブローチを一緒に作ってみませんか？ \n　　　5\,000円+税（レッスンフィー＆材料費含む） \n  \n  \n■午後はアルファベットモチーフネックレス　　13：00～15：00 \n（何本も作っていただけます） \n  \n \n　　　アーティスティックワイヤーの＃２２番手で作る \n　　　アルファベットモチーフを作ります。ちょっとしたコツをつかめば \n　　　あとは繰り返し形を作るのみ。 \n　　　ワイヤー一巻をお渡ししますのでまずは大きな文字をいくつか作って \n　　　練習し、モチーフを作ってみましょう。一緒に着けるビーズはお好きなものから \n　　　選んでいただけます。 \n　　　5\,500円＋税（レッスンフィー＆材料費含む） \n  \n  \nもちろんこれ以外にもご購入されましたキットのわからないところなどの説明も致しますのでぜひともご持参ください。 \nみなさまのお申し込みを心よりお待ちしております。 \n  \n 
URL:https://monparure.com/lesson/558
LOCATION:名古屋会場＜MYCAFE伏見本店＞\, 中区栄2-2-23アーク白川公園ビルディング7F\, 名古屋市\, 愛知県\, 460-0008\, Japan
ORGANIZER;CN="MON PARURE":MAILTO:lesson@monparure.com
END:VEVENT
END:VCALENDAR