BEGIN:VCALENDAR
VERSION:2.0
PRODID:-//MON PARURE - ECPv6.3.5//NONSGML v1.0//EN
CALSCALE:GREGORIAN
METHOD:PUBLISH
X-ORIGINAL-URL:https://monparure.com
X-WR-CALDESC:MON PARURE のイベント
REFRESH-INTERVAL;VALUE=DURATION:PT1H
X-Robots-Tag:noindex
X-PUBLISHED-TTL:PT1H
BEGIN:VTIMEZONE
TZID:Asia/Tokyo
BEGIN:STANDARD
TZOFFSETFROM:+0900
TZOFFSETTO:+0900
TZNAME:JST
DTSTART:20170101T000000
END:STANDARD
END:VTIMEZONE
BEGIN:VEVENT
DTSTART;TZID=Asia/Tokyo:20170414T103000
DTEND;TZID=Asia/Tokyo:20170414T210000
DTSTAMP:20260422T165205
CREATED:20170220T062437Z
LAST-MODIFIED:20170317T051849Z
UID:227-1492165800-1492203600@monparure.com
SUMMARY:4月表参道Lessonのご案内
DESCRIPTION:※レッスン会場は「菅谷ビル202号室」です \n＊＊フリーレッスン＊＊\n 午前レッスン：11：00～13：00\n 午後レッスン：15：00～1７:00\n 夜レッスン　：19：00～21：00\n ※定員：各回6名様 \n  \n＊＊基本レッスン（初心者向け）＊＊\n 午前レッスン：10：30～12：30\n 午後レッスン：14：30～16：30\n 夜レッスン　：18：30～20：30 \n※定員：各回6名様\n ※初心者の方は以下の6アイテムより、作品をお選びください。\n ※基本レッスンは初心者向けの為、基礎の説明を３０分早く開始します。\n ※5～15分前にご来店ください。 \n \n   \n \n \n  \n  \n■費用■\n 受講料+材料費（受講内容によって変わります） \n  \n■今月の課題■\n ※準備中です \n  \n■レッスンで作りたいアクセサリーについて■\n 今月の課題デザインのアクセサリーまたは、MON PARUREで購入したお手持ちのキットや、レッスン当日にキットサンプルを見てお選びいただけます。「作り始めたけど、分からないところがある」「どうしても綺麗にできない」などなど・・・・ご希望に合わせてレッスンを受けることができます。 \nお申し込みの際には「今月のレッスン課題」または「KITの〇〇を作りたい」等\n ご希望をお伝えください。予めご連絡をお願いいたします。 \n＊＊＊当レッスンでは入会制をとっておりません。参加できる日時にご予約して、お気軽にご参加ください。\n ＊＊＊初めての方も、中級～上級者の方もご希望に合わせてご受講いただけます。
URL:https://monparure.com/lesson/227
LOCATION:表参道サロン\, 南青山5丁目10-11\, 港区\, 東京都\, 107-0062\, Japan
ORGANIZER;CN="MON PARURE":MAILTO:lesson@monparure.com
END:VEVENT
BEGIN:VEVENT
DTSTART;TZID=Asia/Tokyo:20170416T100000
DTEND;TZID=Asia/Tokyo:20170416T153000
DTSTAMP:20260422T165205
CREATED:20170220T063710Z
LAST-MODIFIED:20170220T063710Z
UID:230-1492336800-1492356600@monparure.com
SUMMARY:4月休日Lessonのご案内
DESCRIPTION:午前レッスン：10：00～12：00\n 午後レッスン：13：30～15：30 \n各回６名様 \n  \n■費用■\n 受講料+材料費（受講内容によって変わります） \n  \n■3月の課題■\n もう少しお待ちください \n  \n■レッスンで作りたいアクセサリーについて■\n 今月の課題デザインのアクセサリーまたは、MON PARUREで購入したお手持ちのキットや、レッスン当日にキットサンプルを見てお選びいただけます。「作り始めたけど、分からないところがある」「どうしても綺麗にできない」などなど・・・・ご希望に合わせてレッスンを受けることができます。 \nお申し込みの際には「今月のレッスン課題」または「KITの〇〇を作りたい」等\n ご希望をお伝えください。予めご連絡をお願いいたします。 \n＊＊＊当レッスンでは入会制をとっておりません。参加できる日時にご予約して、お気軽にご参加ください。\n ＊＊＊初めての方も、中級～上級者の方もご希望に合わせてご受講いただけます。
URL:https://monparure.com/lesson/230
LOCATION:MONPARURE東浦和本店\, 東浦和4-1-16 2F\, さいたま市緑区\, 埼玉県\, 336-0926\, Japan
ORGANIZER;CN="MON PARURE":MAILTO:lesson@monparure.com
END:VEVENT
BEGIN:VEVENT
DTSTART;TZID=Asia/Tokyo:20170417T100000
DTEND;TZID=Asia/Tokyo:20170417T153000
DTSTAMP:20260422T165205
CREATED:20170220T063814Z
LAST-MODIFIED:20170308T054015Z
UID:232-1492423200-1492443000@monparure.com
SUMMARY:3月平日Lessonのご案内
DESCRIPTION:＊＊今月の課題＊＊\n≪デザイニングレッスン≫\n画像の作品を参考に、お好きな天然石やシードビーズで\nロングネックレスを作りましょう。\n技法は初心者さんでも作れる「通すだけ」技法。\n色や石の大きさのバランスを学びながら、デザインを楽しみます＾＾ \n材料費：5\,000～7\,000円（使用材料により異なります）\n持ち物：ビーズマット・ビーズ通し針・平ペンチ・ニッパー・はさみ \n********************************** \n午前レッスン：10：00～12：00\n 午後レッスン：13：30～15：30 \n各回６名様 \n  \n■費用■\n 受講料+材料費（受講内容によって変わります） \n  \n■4月の課題■\n もう少しお待ちください \n■レッスンで作りたいアクセサリーについて■\n 今月の課題デザインのアクセサリーまたは、MON PARUREで購入したお手持ちのキットや、レッスン当日にキットサンプルを見てお選びいただけます。「作り始めたけど、分からないところがある」「どうしても綺麗にできない」などなど・・・・ご希望に合わせてレッスンを受けることができます。 \nお申し込みの際には「今月のレッスン課題」または「KITの〇〇を作りたい」等\n ご希望をお伝えください。予めご連絡をお願いいたします。 \n＊＊＊当レッスンでは入会制をとっておりません。参加できる日時にご予約して、お気軽にご参加ください。\n ＊＊＊初めての方も、中級～上級者の方もご希望に合わせてご受講いただけます。
URL:https://monparure.com/lesson/232
LOCATION:MONPARURE東浦和本店\, 東浦和4-1-16 2F\, さいたま市緑区\, 埼玉県\, 336-0926\, Japan
ORGANIZER;CN="MON PARURE":MAILTO:lesson@monparure.com
END:VEVENT
BEGIN:VEVENT
DTSTART;TZID=Asia/Tokyo:20170420T103000
DTEND;TZID=Asia/Tokyo:20170420T140000
DTSTAMP:20260422T165205
CREATED:20170412T025408Z
LAST-MODIFIED:20170412T030142Z
UID:374-1492684200-1492696800@monparure.com
SUMMARY:4/20名古屋高島屋Lesson
DESCRIPTION:～cherry blossom ブレスレット～ \nビーズクロッシェ技法で作る、春色のブレスレットです \n 材料費・講習料込　4\,000円＋税\n 各回定員8～10名様 \n＜日程＞\n 4月20日（木）・22日（土） \n＜時間＞\n 各日午前10時30分～午後0時30分　/　午後2時～4時 \n＜場所＞\n JR名古屋タカシマヤ9階 ローズパティオ \n＜ご予約・お問い合わせ＞\n 11階 ファブリック＆クラフト直通TEL(052)566-8469　 \nまだお席に余裕がありますので、是非ご参加ください！\n 道具の貸し出しも行っています。\n 初めての方でも手ぶらでご参加できますよ＾＾
URL:https://monparure.com/lesson/374
LOCATION:名古屋タカシマヤ\, 中村区名駅１−１−４\, 名古屋市\, 愛知県\, 450-6001 \, Japan
ATTACH;FMTTYPE=image/jpeg:https://monparure.com/wp-content/uploads/2017/04/DSC_0152.jpg
END:VEVENT
BEGIN:VEVENT
DTSTART;TZID=Asia/Tokyo:20170422T103000
DTEND;TZID=Asia/Tokyo:20170422T140000
DTSTAMP:20260422T165205
CREATED:20170412T025544Z
LAST-MODIFIED:20170412T030127Z
UID:380-1492857000-1492869600@monparure.com
SUMMARY:4/22名古屋高島屋Lesson
DESCRIPTION:～cherry blossom ブレスレット～ \nビーズクロッシェ技法で作る、春色のブレスレットです \n 材料費・講習料込　4\,000円＋税\n 各回定員8～10名様 \n＜日程＞\n 4月20日（木）・22日（土） \n＜時間＞\n 各日午前10時30分～午後0時30分　/　午後2時～4時 \n＜場所＞\n JR名古屋タカシマヤ9階 ローズパティオ \n＜ご予約・お問い合わせ＞\n 11階 ファブリック＆クラフト直通TEL(052)566-8469　 \nまだお席に余裕がありますので、是非ご参加ください！\n 道具の貸し出しも行っています。\n 初めての方でも手ぶらでご参加できますよ＾＾
URL:https://monparure.com/lesson/380
LOCATION:名古屋タカシマヤ\, 中村区名駅１−１−４\, 名古屋市\, 愛知県\, 450-6001 \, Japan
END:VEVENT
END:VCALENDAR